BEGIN:VCALENDAR
VERSION:2.0
PRODID:-//wp-events-plugin.com//7.2.3.1//EN
TZID:America/Detroit
X-WR-TIMEZONE:America/Detroit
BEGIN:VEVENT
UID:31872@annarborwithkids.com
DTSTART;TZID=America/Detroit:20190608T150000
DTEND;TZID=America/Detroit:20190608T230000
DTSTAMP:20200727T021301Z
URL:https://annarborwithkids.com/events/live-on-washington-3/
SUMMARY:LIVE on Washington
DESCRIPTION:LIVE on Washington is an outdoor music festival in Ann Arbor j
 ust for teens.\n\nThere will be food available for purchase\, visual arts
  exhibition\, music\, and much more.\n\nThe event will be held outside in 
 front of the Neutral Zone. It will be held rain or shine.
CATEGORIES:Arbor Annie's Highlights,Concert,Elementary,Free,High
 Schoolers,Middle Schoolers,Music/Concerts
LOCATION:Neutral Zone\, 310 E. Washington St\, Ann Arbor\, Michigan\, 48104
 \, Downtown\, United States
GEO:42.2801422;-83.74561110000002
X-APPLE-STRUCTURED-LOCATION;VALUE=URI;X-ADDRESS=310 E. Washington St\, Ann 
 Arbor\, Michigan\, 48104\, Downtown\, United States;X-APPLE-RADIUS=100;X-T
 ITLE=Neutral Zone:geo:42.2801422,-83.74561110000002
END:VEVENT
BEGIN:VTIMEZONE
TZID:America/Detroit
X-LIC-LOCATION:America/Detroit
BEGIN:DAYLIGHT
DTSTART:20190310T030000
TZOFFSETFROM:-0500
TZOFFSETTO:-0400
TZNAME:EDT
END:DAYLIGHT
END:VTIMEZONE
END:VCALENDAR