BEGIN:VCALENDAR
VERSION:2.0
PRODID:-//wp-events-plugin.com//7.2.3.1//EN
TZID:America/Detroit
X-WR-TIMEZONE:America/Detroit
BEGIN:VEVENT
UID:76381@annarborwithkids.com
DTSTART;TZID=America/Detroit:20250517T110000
DTEND;TZID=America/Detroit:20250517T120000
DTSTAMP:20250501T032215Z
URL:https://annarborwithkids.com/events/little-ones-play-3/
SUMMARY:Little Ones Play - Nature Sensory
DESCRIPTION:\nExplore STEM concepts for little ones through the 5 senses! S
 TEM sensory stations will be available for ages 0-5\, including babyExplor
 e the natural world through the five senses with other little ones! Sensor
 y stations will be available for ages 0-5\, including baby-friendly statio
 ns for our smallest friends. Stations with small parts will be kept in a s
 eparate room from all-ages stations.-friendly stations for the smallest fr
 iends. Stations with small parts will be kept in a separate room from all-
 ages stations.\n\n\n\nFor babies to preschoolers\n\n\n\n\n\n\n
CATEGORIES:Arbor Annie's Highlights,Free,Indoor
 Activities,Nature,Preschoolers,Toddler
LOCATION:Ypsilanti District Library - Michigan Ave Branch\, 229 West Michig
 an Avenue\, Ypsilanti\, Michigan\, 48197\, Ypsilanti\, United States
GEO:42.240746;-83.61565
X-APPLE-STRUCTURED-LOCATION;VALUE=URI;X-ADDRESS=229 West Michigan Avenue\, 
 Ypsilanti\, Michigan\, 48197\, Ypsilanti\, United States;X-APPLE-RADIUS=10
 0;X-TITLE=Ypsilanti District Library - Michigan Ave Branch:geo:42.240746,-
 83.61565
END:VEVENT
BEGIN:VTIMEZONE
TZID:America/Detroit
X-LIC-LOCATION:America/Detroit
BEGIN:DAYLIGHT
DTSTART:20250309T030000
TZOFFSETFROM:-0500
TZOFFSETTO:-0400
TZNAME:EDT
END:DAYLIGHT
END:VTIMEZONE
END:VCALENDAR