BEGIN:VCALENDAR
VERSION:2.0
PRODID:-//wp-events-plugin.com//7.2.3.1//EN
TZID:America/Detroit
X-WR-TIMEZONE:America/Detroit
BEGIN:VEVENT
UID:85111@annarborwithkids.com
DTSTART;TZID=America/Detroit:20260425T110000
DTEND;TZID=America/Detroit:20260425T120000
DTSTAMP:20260323T214719Z
URL:https://annarborwithkids.com/events/little-ones-family-prom/
SUMMARY:Little Ones Family Prom
DESCRIPTION:\nJoin YDL for Little One's Prom. \n\n\n\nGet dressed up for a 
 morning of music\, dancing\, light snacks\, and a craft. Capture the occas
 ion with a commemorative photo to take home. \n\n\n\nDance the day away\, 
 but still be home in time for naps.\n\n\n\nFor families with kids up to ag
 e 6.\n\n\n\n\n\n\n
CATEGORIES:Arbor Annie's Highlights,Crafts,Food,Free,Indoor
 Activities,Music/Concerts,Parents,Preschoolers,Toddler
LOCATION:Ypsilanti District Library - Whittaker Rd\, 5577 Whittaker Rd\, Yp
 silanti\, Michigan\, 48197\, Ypsilanti\, United States
GEO:42.208097;-83.61557
X-APPLE-STRUCTURED-LOCATION;VALUE=URI;X-ADDRESS=5577 Whittaker Rd\, Ypsilan
 ti\, Michigan\, 48197\, Ypsilanti\, United States;X-APPLE-RADIUS=100;X-TIT
 LE=Ypsilanti District Library - Whittaker Rd:geo:42.208097,-83.61557
END:VEVENT
BEGIN:VTIMEZONE
TZID:America/Detroit
X-LIC-LOCATION:America/Detroit
BEGIN:DAYLIGHT
DTSTART:20260308T030000
TZOFFSETFROM:-0500
TZOFFSETTO:-0400
TZNAME:EDT
END:DAYLIGHT
END:VTIMEZONE
END:VCALENDAR