BEGIN:VCALENDAR
VERSION:2.0
PRODID:-//wp-events-plugin.com//7.2.3.1//EN
TZID:America/Detroit
X-WR-TIMEZONE:America/Detroit
BEGIN:VEVENT
UID:75522@annarborwithkids.com
DTSTART;TZID=America/Detroit:20260327T110000
DTEND;TZID=America/Detroit:20260327T120000
DTSTAMP:20260309T212434Z
URL:https://annarborwithkids.com/events/little-ones-dance-with-christina-s
 ears-etter/
SUMMARY:Little Ones Dance
DESCRIPTION:\nJoin dance instructor Christina Sears for a lively creative m
 ovement class that will introduce skills and developmental concepts. Dance
 rs will enjoy delightful music\, fun motor activities\, and creative play 
 with props and pathways\, all while building strength\, balance\, and flex
 ibility and sparking problem-solving and imagination.\n\n\n\nFor little on
 es.\n\n\n\n\n\n\n
CATEGORIES:Arbor Annie's Highlights,Dance,Dance,Free,Indoor
 Activities,Music/Concerts,Preschoolers,Toddler
LOCATION:Ypsilanti District Library - Whittaker Rd\, 5577 Whittaker Rd\, Yp
 silanti\, Michigan\, 48197\, Ypsilanti\, United States
GEO:42.208097;-83.61557
X-APPLE-STRUCTURED-LOCATION;VALUE=URI;X-ADDRESS=5577 Whittaker Rd\, Ypsilan
 ti\, Michigan\, 48197\, Ypsilanti\, United States;X-APPLE-RADIUS=100;X-TIT
 LE=Ypsilanti District Library - Whittaker Rd:geo:42.208097,-83.61557
END:VEVENT
BEGIN:VTIMEZONE
TZID:America/Detroit
X-LIC-LOCATION:America/Detroit
BEGIN:DAYLIGHT
DTSTART:20260308T030000
TZOFFSETFROM:-0500
TZOFFSETTO:-0400
TZNAME:EDT
END:DAYLIGHT
END:VTIMEZONE
END:VCALENDAR