BEGIN:VCALENDAR
VERSION:2.0
PRODID:-//wp-events-plugin.com//7.2.3.1//EN
TZID:America/Detroit
X-WR-TIMEZONE:America/Detroit
BEGIN:VEVENT
UID:1252@annarborwithkids.com
DTSTART;TZID=America/Detroit:20251016T100000
DTEND;TZID=America/Detroit:20251016T150000
DTSTAMP:20251002T164114Z
URL:https://annarborwithkids.com/events/little-boo-zoo/
SUMMARY:Little Boo at the Zoo
DESCRIPTION:\nThe Toledo Zoo's Little Boo at the Zoo is a fun trick or trea
 ting event for little kids at Toledo Zoo.\n\n\n\nFor 2025\, Little Boo at 
 the Zoo takes place on Thursday\, October 16 &amp\; Friday\, October 17. T
 hey also offer Pumpkin Path on Saturday\, October 18 &amp\; Sunday\, Oct
 ober 19.\n\n\n\nThere will be:\n\n\n\n\n10a-3p \n\nTrick or Treat Stations
  - Around the Zoo\n\n\n\nStrolling Magic - Throughout Zoo Grounds\n\n\n\nB
 oo-tacular play area - Main Plaza &amp\; Amphitheatre\n\n\n\n\n\n10a-12:30
 p - Character Meet &amp\; Greets - Elsa\, Anna\, Superman\, Supergirl - Br
 oadway Pavilion\n\n\n\n11a-2p Pumpkin Carving Demos throughout zoo\n\n\n\n
 11a\, noon\, &amp\; 1p - Creature Feature Animal Shows in Nature's Neighbo
 rhood\n\n\n\n1:30-2p - Live Perfromance by Laurel's Characters - Amphithea
 tre\n\n\n\n2-2:45p - Character Meet &amp\; Greets - Elsa\, Anna\, Superman
 \, Supergirl - Broadway Pavilion\n\n\n\n\nThe Toledo Zoo is participating 
 in the Teal Pumpkin Project to provide allergen treats. All treat stations
  will have a non-food option.\n\n\n\n\n\n\n\nLittle Boo at the Zoo Admissi
 on is:\n\n\n\n\nMembers\n\nAdult - Free\n\n\n\nChild - Free admission\, $1
 1 for trick or treat wristband - Free for Experience Package Members\n\n\n
 \n\n\nNon-Members\n\nAdult - $29\, Seniors - $26\n\n\n\nChild - $29 (admis
 sion only)\n\n\n\n\n\nJack-O-Lantern Express Train with Halloween Storytim
 es- $3.50/person\n\n\n\n\nMy daughter and I attended Little Boo at the Zoo
  several times when she was younger. I really enjoyed&nbsp\;Little Boo at 
 the Zoo&nbsp\;since it was less crowded than their weekend Pumpkin Path ev
 ent.\n\n\n\n\n\n\n\n\n\n\n
CATEGORIES:Animals,Arbor Annie's
 Highlights,Babies,Halloween,Preschoolers,Toddler,Trick or Treat
LOCATION:Toledo Zoo\, 2 Hippo Way\, Toledo\, Ohio\, 43609\, Toledo\, United
  States
GEO:41.6215994;-83.58252920000001
X-APPLE-STRUCTURED-LOCATION;VALUE=URI;X-ADDRESS=2 Hippo Way\, Toledo\, Ohio
 \, 43609\, Toledo\, United States;X-APPLE-RADIUS=100;X-TITLE=Toledo Zoo:ge
 o:41.6215994,-83.58252920000001
END:VEVENT
BEGIN:VTIMEZONE
TZID:America/Detroit
X-LIC-LOCATION:America/Detroit
BEGIN:DAYLIGHT
DTSTART:20250309T030000
TZOFFSETFROM:-0500
TZOFFSETTO:-0400
TZNAME:EDT
END:DAYLIGHT
END:VTIMEZONE
END:VCALENDAR