BEGIN:VCALENDAR
VERSION:2.0
PRODID:-//wp-events-plugin.com//7.2.3.1//EN
TZID:America/Detroit
X-WR-TIMEZONE:America/Detroit
BEGIN:VEVENT
UID:57238@annarborwithkids.com
DTSTART;TZID=America/Detroit:20201031T190000
DTEND;TZID=America/Detroit:20201031T210000
DTSTAMP:20201001T211658Z
URL:https://annarborwithkids.com/events/lift-off-night-terrors/
SUMMARY:Lift Off: Night Terrors
DESCRIPTION:The Ann Arbor Aviary is not canceling their Halloween event. Ho
 wever\, they will be moving it virtual. Guests will be able to watch live 
 or view at their leisure.\nJoin them for a spooktacular circus of nightmar
 es\, phobias\, and things that go bump in the night..\nDetails on booking 
 the virtual program will be provided closer to the date\n \n\n\n\n
CATEGORIES:Advance Registration,Arbor Annie's
 Highlights,Elementary,Halloween,High Schoolers,Indoor Activities,Middle
 Schoolers,Parents,Theater,Virtual
END:VEVENT
BEGIN:VTIMEZONE
TZID:America/Detroit
X-LIC-LOCATION:America/Detroit
BEGIN:DAYLIGHT
DTSTART:20200308T030000
TZOFFSETFROM:-0500
TZOFFSETTO:-0400
TZNAME:EDT
END:DAYLIGHT
END:VTIMEZONE
END:VCALENDAR