BEGIN:VCALENDAR
VERSION:2.0
PRODID:-//wp-events-plugin.com//7.2.3.1//EN
TZID:America/Detroit
X-WR-TIMEZONE:America/Detroit
BEGIN:VEVENT
UID:75743@annarborwithkids.com
DTSTART;TZID=America/Detroit:20260419T190000
DTEND;TZID=America/Detroit:20260419T190000
DTSTAMP:20260414T184712Z
URL:https://annarborwithkids.com/events/life-on-planet-pops/
SUMMARY:30 Years of Pops Love
DESCRIPTION:\nAs the University of Michigan's only fully student-run\, stud
 ent-directed orchestra\, Michigan Pops is putting on a show guaranteed to 
 excite audience members of all ages as they play music guaranteed to make 
 the audience feel all 30 years of friendship in Pops! \n\n\n\nJoin them fo
 r a night of fan-favorites\, from the themes from West Side Story to Dvora
 k's Symphony No. 9\, and so much more! “30 Years of Pops Love” will be
  an engaging and dynamic show utilizing a unique combination of stage anti
 cs\, multimedia\, and special effects.\n\n\n\nThe Michigan Pops Orchestra 
 is a UM student organization.\n\n\n\nTickets are $9/adults\, $5/students\,
  and free to children/students in public schools &amp\; Ann Arbor day care
 s. Seniors 65+ are free at the door.\n\n\n\nTickets will be sold at Mason 
 Hall\, online on MUTO\, and at the door.\n\n\n\n\n
CATEGORIES:Advance Registration,Arbor Annie's
 Highlights,Concert,Elementary,High Schoolers,Indoor Activities,Middle
 Schoolers,Music/Concerts,Parents,Pop Culture
LOCATION:Michigan Theater\, 603 E. Liberty St\, Ann Arbor\, MI\, 48104\, Do
 wntown\, United States
GEO:42.279704;-83.742019
X-APPLE-STRUCTURED-LOCATION;VALUE=URI;X-ADDRESS=603 E. Liberty St\, Ann Arb
 or\, MI\, 48104\, Downtown\, United States;X-APPLE-RADIUS=100;X-TITLE=Mich
 igan Theater:geo:42.279704,-83.742019
END:VEVENT
BEGIN:VTIMEZONE
TZID:America/Detroit
X-LIC-LOCATION:America/Detroit
BEGIN:DAYLIGHT
DTSTART:20260308T030000
TZOFFSETFROM:-0500
TZOFFSETTO:-0400
TZNAME:EDT
END:DAYLIGHT
END:VTIMEZONE
END:VCALENDAR