BEGIN:VCALENDAR
VERSION:2.0
PRODID:-//wp-events-plugin.com//7.2.3.1//EN
TZID:America/Detroit
X-WR-TIMEZONE:America/Detroit
BEGIN:VEVENT
UID:39835@annarborwithkids.com
DTSTART;TZID=America/Detroit:20260620T080000
DTEND;TZID=America/Detroit:20260620T110000
DTSTAMP:20260326T154335Z
URL:https://annarborwithkids.com/events/liberty-run/
SUMMARY:Liberty Run
DESCRIPTION:\nThe Liberty Run is part of the Canton Liberty Fest. The race 
 features a:\n\n\n\n\n1 mile - 10a\n\n\n\n5K - 8a\n\n\n\n10K - 8:30a\n\n\n\
 n\nAs of March 26\, we did not see a registration link or pricing.\n\n\n\n
 \n\n\n\nFull Liberty Fest Schedule:\n\n\n\n[events_list tag="Canton Libert
 y Fest" scope="2026-06-10\,2026-06-25"][/events_list]\n\n\n\n\n
CATEGORIES:Advance Registration,Arbor Annie's
 Highlights,Elementary,Fitness/Health,High Schoolers,Middle
 Schoolers,Parents,Race,Sport
LOCATION:Heritage Park\, 1150 S Canton Center\, Canton\, Michigan\, 48188\,
  Canton\, United States
GEO:42.2987287;-83.48793030000002
X-APPLE-STRUCTURED-LOCATION;VALUE=URI;X-ADDRESS=1150 S Canton Center\, Cant
 on\, Michigan\, 48188\, Canton\, United States;X-APPLE-RADIUS=100;X-TITLE=
 Heritage Park:geo:42.2987287,-83.48793030000002
END:VEVENT
BEGIN:VTIMEZONE
TZID:America/Detroit
X-LIC-LOCATION:America/Detroit
BEGIN:DAYLIGHT
DTSTART:20260308T030000
TZOFFSETFROM:-0500
TZOFFSETTO:-0400
TZNAME:EDT
END:DAYLIGHT
END:VTIMEZONE
END:VCALENDAR