BEGIN:VCALENDAR
VERSION:2.0
PRODID:-//wp-events-plugin.com//7.2.3.1//EN
TZID:America/Detroit
X-WR-TIMEZONE:America/Detroit
BEGIN:VEVENT
UID:93243@annarborwithkids.com
DTSTART;TZID=America/Detroit:20260416T160000
DTEND;TZID=America/Detroit:20260416T170000
DTSTAMP:20260323T203417Z
URL:https://annarborwithkids.com/events/lets-celebrate-poetry-month-writin
 g-workshop-2026-04-02-2026-04-09-2026-04-16/
SUMMARY:Poetry Month Workshop Sessions
DESCRIPTION:\nCalling all writers\, lovers of poetry and those looking to e
 xperiment! \n\n\n\nEach Thursday there will be a poetry workshop uncoverin
 g another component of the multifacted genre leading up to YDL's open mic 
 and award ceremony on April 24th. Come in to learn\, meet new people and w
 orkshop a piece. Then\, consider submitting your piece in their online poe
 try contest. \n\n\n\nFor kids &amp\; parents\, tweens\, teens\, &amp\; ad
 ults.\n
CATEGORIES:Arbor Annie's Highlights,Elementary,Free,High Schoolers,Indoor
 Activities,Middle Schoolers,Parents,Writing
LOCATION:Ypsilanti District Library - Michigan Ave Branch\, 229 West Michig
 an Avenue\, Ypsilanti\, Michigan\, 48197\, Ypsilanti\, United States
GEO:42.240746;-83.61565
X-APPLE-STRUCTURED-LOCATION;VALUE=URI;X-ADDRESS=229 West Michigan Avenue\, 
 Ypsilanti\, Michigan\, 48197\, Ypsilanti\, United States;X-APPLE-RADIUS=10
 0;X-TITLE=Ypsilanti District Library - Michigan Ave Branch:geo:42.240746,-
 83.61565
END:VEVENT
BEGIN:VTIMEZONE
TZID:America/Detroit
X-LIC-LOCATION:America/Detroit
BEGIN:DAYLIGHT
DTSTART:20260308T030000
TZOFFSETFROM:-0500
TZOFFSETTO:-0400
TZNAME:EDT
END:DAYLIGHT
END:VTIMEZONE
END:VCALENDAR