BEGIN:VCALENDAR
VERSION:2.0
PRODID:-//wp-events-plugin.com//7.2.3.1//EN
TZID:America/Detroit
X-WR-TIMEZONE:America/Detroit
BEGIN:VEVENT
UID:92921@annarborwithkids.com
DTSTART;TZID=America/Detroit:20260328T140000
DTEND;TZID=America/Detroit:20260328T150000
DTSTAMP:20260309T215923Z
URL:https://annarborwithkids.com/events/leslie-science-nature-center-feath
 ered-friends/
SUMMARY:Leslie Science &amp\; Nature Center: Feathered Friends
DESCRIPTION:\nLet your imaginations take flight and soar through a story ab
 out LSNC's avian ambassadors. After the story\, learn more about their fea
 thered friends and meet a native Michigan bird. Tailored to a preschool au
 dience and live animals will be present.\n\n\n\n\n\n\n\n\n
CATEGORIES:Animals,Arbor Annie's Highlights,Elementary,Free,Indoor
 Activities,Preschoolers,Storytime
LOCATION:Ypsilanti District Library - Michigan Ave Branch\, 229 West Michig
 an Avenue\, Ypsilanti\, Michigan\, 48197\, Ypsilanti\, United States
GEO:42.240746;-83.61565
X-APPLE-STRUCTURED-LOCATION;VALUE=URI;X-ADDRESS=229 West Michigan Avenue\, 
 Ypsilanti\, Michigan\, 48197\, Ypsilanti\, United States;X-APPLE-RADIUS=10
 0;X-TITLE=Ypsilanti District Library - Michigan Ave Branch:geo:42.240746,-
 83.61565
END:VEVENT
BEGIN:VTIMEZONE
TZID:America/Detroit
X-LIC-LOCATION:America/Detroit
BEGIN:DAYLIGHT
DTSTART:20260308T030000
TZOFFSETFROM:-0500
TZOFFSETTO:-0400
TZNAME:EDT
END:DAYLIGHT
END:VTIMEZONE
END:VCALENDAR