BEGIN:VCALENDAR
VERSION:2.0
PRODID:-//wp-events-plugin.com//7.2.3.1//EN
TZID:America/Detroit
X-WR-TIMEZONE:America/Detroit
BEGIN:VEVENT
UID:89120@annarborwithkids.com
DTSTART;TZID=America/Detroit:20261129T093000
DTEND;TZID=America/Detroit:20261129T093000
DTSTAMP:20260326T174105Z
URL:https://annarborwithkids.com/events/leftovers-run/
SUMMARY:Leftovers Run
DESCRIPTION:\nEpic Races is holding the Leftovers Run after Thanksgiving. N
 ot only does it celebrate the holiday leftovers\, the race swag is about t
 heir leftovers - you'll get a leftover shirt and medal from one of their p
 revious races.\n\n\n\nRegistration\n\n\n\n\nby October 31 - $25\n\n\n\nNov
 ember 1-29 - $30\n\n\n\n\n\n\n\n
CATEGORIES:Advance Registration,Arbor Annie's Highlights,High
 Schoolers,Middle Schoolers,Outdoor,Parents,Race,Registration
 Required,Thanksgiving
LOCATION:Hudson Mills Metropark\, 8801 N. Territorial Rd\, Dexter\, Michiga
 n\, 48130\, Dexter\, United States
GEO:42.3866538;-83.9086605
X-APPLE-STRUCTURED-LOCATION;VALUE=URI;X-ADDRESS=8801 N. Territorial Rd\, De
 xter\, Michigan\, 48130\, Dexter\, United States;X-APPLE-RADIUS=100;X-TITL
 E=Hudson Mills Metropark:geo:42.3866538,-83.9086605
END:VEVENT
BEGIN:VTIMEZONE
TZID:America/Detroit
X-LIC-LOCATION:America/Detroit
BEGIN:STANDARD
DTSTART:20261101T010000
TZOFFSETFROM:-0400
TZOFFSETTO:-0500
TZNAME:EST
END:STANDARD
END:VTIMEZONE
END:VCALENDAR