BEGIN:VCALENDAR
VERSION:2.0
PRODID:-//wp-events-plugin.com//7.2.3.1//EN
TZID:America/Detroit
X-WR-TIMEZONE:America/Detroit
BEGIN:VEVENT
UID:92855@annarborwithkids.com
DTSTART;TZID=America/Detroit:20260315T140000
DTEND;TZID=America/Detroit:20260315T150000
DTSTAMP:20260306T013442Z
URL:https://annarborwithkids.com/events/latin-social-dance-workshop/
SUMMARY:Latin Social Dance Workshop
DESCRIPTION:\nJoin UM Lecturer and theatre artist Emilio Rodriguez for a La
 tin Social Dance/Music workshop featuring original music from the upcoming
  musical&nbsp\;Salomé&nbsp\;from the Black and Brown Theatre. The musical
 &nbsp\;celebrates Caribbean and Puerto Rican folklore and will premiere at
  the Riverside Arts Center in March.&nbsp\;\n\n\n\nThis workshop is for al
 l ages\, including families. Participants will learn the dances at a level
  suitable for all learners. Whether a dancer\, a mover\, or a wallflower\,
  all are welcome.&nbsp\;\n\n\n\nThis workshop is presented with the suppor
 t of the Culture Source Washtenaw Artist Grant.&nbsp\;\n\n\n\nThe event is
  for all ages.\n
CATEGORIES:Arbor Annie's Highlights,BIPOC,Cultural
 Celebration,Dance,Elementary,Free,High Schoolers,Indoor Activities,Middle
 Schoolers,Parents,Preschoolers
LOCATION:Ypsilanti District Library - Whittaker Rd\, 5577 Whittaker Rd\, Yp
 silanti\, Michigan\, 48197\, Ypsilanti\, United States
GEO:42.208097;-83.61557
X-APPLE-STRUCTURED-LOCATION;VALUE=URI;X-ADDRESS=5577 Whittaker Rd\, Ypsilan
 ti\, Michigan\, 48197\, Ypsilanti\, United States;X-APPLE-RADIUS=100;X-TIT
 LE=Ypsilanti District Library - Whittaker Rd:geo:42.208097,-83.61557
END:VEVENT
BEGIN:VTIMEZONE
TZID:America/Detroit
X-LIC-LOCATION:America/Detroit
BEGIN:DAYLIGHT
DTSTART:20260308T030000
TZOFFSETFROM:-0500
TZOFFSETTO:-0400
TZNAME:EDT
END:DAYLIGHT
END:VTIMEZONE
END:VCALENDAR