BEGIN:VCALENDAR
VERSION:2.0
PRODID:-//wp-events-plugin.com//7.2.3.1//EN
TZID:America/Detroit
X-WR-TIMEZONE:America/Detroit
BEGIN:VEVENT
UID:76299@annarborwithkids.com
DTSTART;TZID=America/Detroit:20251106T180000
DTEND;TZID=America/Detroit:20251106T190000
DTSTAMP:20251024T195605Z
URL:https://annarborwithkids.com/events/languages-of-the-world-german/
SUMMARY:Languages of the World: Arabic
DESCRIPTION:\nCome and learn about Arabic and what makes the language so un
 ique. Its writing\, sound system\, and word formation are all quite differ
 ent from English. Did you know that English has borrowed heavily from Arab
 ic\, tracing words from "artichoke" to "zero" back to Arabic origins? That
  it continues to use words traced back to Ancient Egyptian? That Arabic's 
 modern spoken form differs greatly across Africa and the Arabian Peninsula
 ? This is not a language tutorial\, but you will learn a few basic words a
 nd phrases in Arabic.&nbsp\;\n\n\n\nPresented by Hossam Abouzahr\, founder
  of Living Arabic\, an online multi-dialect Arabic dictionary.\n\n\n\nHeld
  in 4th Floor Meeting Room. For teens &amp\; adults\n
CATEGORIES:Arbor Annie's Highlights,Free,High Schoolers,Indoor
 Activities,Middle Schoolers,Parents
LOCATION:Downtown Branch of AADL\, 343 South Fifth Avenue\, Ann Arbor\, Mic
 higan\, 48104\, Downtown\, United States
GEO:42.278198;-83.745971
X-APPLE-STRUCTURED-LOCATION;VALUE=URI;X-ADDRESS=343 South Fifth Avenue\, An
 n Arbor\, Michigan\, 48104\, Downtown\, United States;X-APPLE-RADIUS=100;X
 -TITLE=Downtown Branch of AADL:geo:42.278198,-83.745971
END:VEVENT
BEGIN:VTIMEZONE
TZID:America/Detroit
X-LIC-LOCATION:America/Detroit
BEGIN:STANDARD
DTSTART:20251102T010000
TZOFFSETFROM:-0400
TZOFFSETTO:-0500
TZNAME:EST
END:STANDARD
END:VTIMEZONE
END:VCALENDAR