BEGIN:VCALENDAR
VERSION:2.0
PRODID:-//wp-events-plugin.com//7.2.3.1//EN
TZID:America/Detroit
X-WR-TIMEZONE:America/Detroit
BEGIN:VEVENT
UID:92569@annarborwithkids.com
DTSTART;TZID=America/Detroit:20260312T173000
DTEND;TZID=America/Detroit:20260312T193000
DTSTAMP:20260219T154850Z
URL:https://annarborwithkids.com/events/kintsugi-demonstration-with-aki-mo
 toyama/
SUMMARY:Kintsugi Demonstration with Aki Motoyama
DESCRIPTION:\nDelve into the Japanese art of Kintsugi (in Japanese\, it mea
 ns golden joinery or golden repair) with artist Aki Motoyama. Kintsugi is 
 the Japanese art of repairing broken pottery by mending the areas of break
 age with urushi lacquer dusted or mixed with powdered gold\, silver\, or p
 latinum. Aki will be using gold for the demonstration.\n\n\n\nAki Motoyama
  is a Kintsugi artist based in Japan. Born in Tokyo\, Aki developed a pass
 ion for arts and crafts at a young age and became deeply interested in tra
 ditional Japanese crafts after moving to the United States. She earned her
  BFA degree from the U of M School of Arts and Design and her Master of De
 sign degree from Domus Academy in Milan\, Italy.\n\n\n\nAki honed her skil
 ls in Kintsugi and Makie techniques under the guidance of several esteemed
  artists. Her work has been exhibited in galleries across Tokyo.&nbsp\;\n\
 n\n\nToday\, Aki repairs her clients' pottery by taking orders online\, en
 suring each piece is restored with meticulous care. She communicates deepl
 y with her clients to customize the repair method for their cherished belo
 ngings. In addition to her restoration work\, Aki occasionally holds priva
 te lessons\, sharing her expertise and passion for Kintsugi with others.\n
 \n\n\nFor teens &amp\; Adults. Held in Fourth Floor Program Lobby.\n\n\n
CATEGORIES:Arbor Annie's Highlights,BIPOC,Cultural Celebration,Free,High
 Schoolers,Indoor Activities,Parents
LOCATION:Downtown Branch of AADL\, 343 South Fifth Avenue\, Ann Arbor\, Mic
 higan\, 48104\, Downtown\, United States
GEO:42.278198;-83.745971
X-APPLE-STRUCTURED-LOCATION;VALUE=URI;X-ADDRESS=343 South Fifth Avenue\, An
 n Arbor\, Michigan\, 48104\, Downtown\, United States;X-APPLE-RADIUS=100;X
 -TITLE=Downtown Branch of AADL:geo:42.278198,-83.745971
END:VEVENT
BEGIN:VTIMEZONE
TZID:America/Detroit
X-LIC-LOCATION:America/Detroit
BEGIN:DAYLIGHT
DTSTART:20260308T030000
TZOFFSETFROM:-0500
TZOFFSETTO:-0400
TZNAME:EDT
END:DAYLIGHT
END:VTIMEZONE
END:VCALENDAR