BEGIN:VCALENDAR
VERSION:2.0
PRODID:-//wp-events-plugin.com//7.2.3.1//EN
TZID:America/Detroit
X-WR-TIMEZONE:America/Detroit
BEGIN:VEVENT
UID:22019@annarborwithkids.com
DTSTART;TZID=America/Detroit:20250920T100000
DTEND;TZID=America/Detroit:20250920T230000
DTSTAMP:20250905T195926Z
URL:https://annarborwithkids.com/events/kinderplatz-saline-oktoberfest/
SUMMARY:Saline Oktoberfest
DESCRIPTION:\nSaline Oktoberfest is an annual celebration held in downtown 
 Saline.\n\n\n\nSaturday highlights include:\n\n\n\n\n8a - Farmers Market\n
 \n\n\n10a-2p - Kinderplatz on N. Ann Arbor St - Free Kids Activities &amp\
 ; Vendors\n\n\n\n11a - Gemini plays in Kinderplatz\n\n\n\nnoon - Biergarte
 n opns with live music startin\n\n\n\n4:30p - Wiener Dog Races\n\n\n\n6p -
  Hammerspiel - registration starts at 5p\n\n\n\n8p - Live music by Paralle
 l Fifth\n\n\n\n\n\n
CATEGORIES:Arbor Annie's Highlights,Crafts,Cultural
 Celebration,Elementary,Free,High Schoolers,Middle
 Schoolers,Parents,Preschoolers,Toddler
LOCATION:Downtown Saline\, 10 North Ann Arbor St\, Saline\, Michigan\, Sali
 ne\, United States
GEO:42.1667082;-83.78133179999998
X-APPLE-STRUCTURED-LOCATION;VALUE=URI;X-ADDRESS=10 North Ann Arbor St\, Sal
 ine\, Michigan\, Saline\, United States;X-APPLE-RADIUS=100;X-TITLE=Downtow
 n Saline:geo:42.1667082,-83.78133179999998
END:VEVENT
BEGIN:VTIMEZONE
TZID:America/Detroit
X-LIC-LOCATION:America/Detroit
BEGIN:DAYLIGHT
DTSTART:20250309T030000
TZOFFSETFROM:-0500
TZOFFSETTO:-0400
TZNAME:EDT
END:DAYLIGHT
END:VTIMEZONE
END:VCALENDAR