BEGIN:VCALENDAR
VERSION:2.0
PRODID:-//wp-events-plugin.com//7.2.3.1//EN
TZID:America/Detroit
X-WR-TIMEZONE:America/Detroit
BEGIN:VEVENT
UID:84499@annarborwithkids.com
DTSTART;TZID=America/Detroit:20260222T130000
DTEND;TZID=America/Detroit:20260222T150000
DTSTAMP:20260123T030940Z
URL:https://annarborwithkids.com/events/kindergarten-round-up-preschool-op
 en-house/
SUMMARY:Kindergarten Round Up &amp\; Preschool Open House
DESCRIPTION:\nJoin St Andrew Catholic School for their Kindergarten Round U
 p &amp\; Preschool Open House. Tour the building\, visit classrooms\, and 
 meet staff. All teachers will be present\, so feel free to bring older stu
 dents as well!\n\n\n\n\n\n\n\n\n\n\n
ATTACH;FMTTYPE=image/jpeg:https://annarborwithkids.com/wp-content/uploads/
 standrews-2026-open-house-feature.png
CATEGORIES:Arbor Annie's Highlights,Display
 Image,Education,Elementary,Elementary School Open House,Free,Indoor
 Activities,Kindergarten Information,Parents,Plus,Preschool Open
 House,Preschoolers,Sponsoring Event
LOCATION:St. Andrew Catholic School\, 910 Austin Rd\, Saline\, Michigan\, 4
 8176\, United States
GEO:42.161972;-83.800733
X-APPLE-STRUCTURED-LOCATION;VALUE=URI;X-ADDRESS=910 Austin Rd\, Saline\, Mi
 chigan\, 48176\, United States;X-APPLE-RADIUS=100;X-TITLE=St. Andrew Catho
 lic School:geo:42.161972,-83.800733
END:VEVENT
BEGIN:VTIMEZONE
TZID:America/Detroit
X-LIC-LOCATION:America/Detroit
BEGIN:STANDARD
DTSTART:20251102T010000
TZOFFSETFROM:-0400
TZOFFSETTO:-0500
TZNAME:EST
END:STANDARD
END:VTIMEZONE
END:VCALENDAR