BEGIN:VCALENDAR
VERSION:2.0
PRODID:-//wp-events-plugin.com//7.2.3.1//EN
TZID:America/Detroit
X-WR-TIMEZONE:America/Detroit
BEGIN:VEVENT
UID:89594@annarborwithkids.com
DTSTART;TZID=America/Detroit:20251012T100000
DTEND;TZID=America/Detroit:20251012T110000
DTSTAMP:20250925T190949Z
URL:https://annarborwithkids.com/events/kindergarten-open-house-and-playti
 me/
SUMMARY:Kindergarten Open House and Playtime
DESCRIPTION:\n🌟 Calling Ann Arbor families with Young 5s &amp\; Kinderga
 rteners! 🌟\n\n\n\nHebrew Day School is excited to invite you to "Taste 
 of Gan" – fun open house events at Hebrew Day School!"Gan" means kinderg
 arten in Hebrew\, and these mornings are perfect for families exploring Je
 wish education or interfaith families curious about their community.\n\n\n
 \n\n\n\n\n✨ What to expect: Story time\, crafts\, snacks\, and a peek in
 to their kindergarten classroom. Your little ones will play and get to mee
 t their amazing teachers and connect with other local families.📅 When: 
 October 12\, November 16\, or December 14 (all at 10 Aa)📍 Where: Hebrew
  Day School of Ann Arbor🎁 Free! Just RSVP required: https://forms.gle/n
 yZJxcsSrqAa7C5D8🏠 Hebrew Day School of Ann Arbor has been leading excel
 lent Jewish education for the past 50 years\, welcoming families from all 
 Jewish backgrounds. Whether you're new to the area or a longtime community
  member\, they would love to meet you!📚 Considering HDS for an older ch
 ild? Talk to them and set a tour! They take pride in their ability to supp
 ort transitions\, and enroll all ages year round.💬 Questions? Feel free
  to email them: admissions@hdsaa.org or call 734-971-4633\n\n\n\n\n
ATTACH;FMTTYPE=image/jpeg:https://annarborwithkids.com/wp-content/uploads/
 Taste-of-Gan-3.png
CATEGORIES:Advance Registration,Arbor Annie's Highlights,Crafts,Cultural
 Celebration,Display Image,Education,Elementary School Open
 House,Food,Free,Indoor Activities,Kindergarten
 Information,Plus,Preschoolers,Registration Required,Sponsoring
 Event,Storytime
LOCATION:Hebrew Day School at the JCC\, 2937 Birch Hollow Drive\, Ann Arbor
 \, MI\, 48104\, United States
GEO:42.2387591;-83.7215405
X-APPLE-STRUCTURED-LOCATION;VALUE=URI;X-ADDRESS=2937 Birch Hollow Drive\, A
 nn Arbor\, MI\, 48104\, United States;X-APPLE-RADIUS=100;X-TITLE=Hebrew Da
 y School at the JCC:geo:42.2387591,-83.7215405
END:VEVENT
BEGIN:VTIMEZONE
TZID:America/Detroit
X-LIC-LOCATION:America/Detroit
BEGIN:DAYLIGHT
DTSTART:20250309T030000
TZOFFSETFROM:-0500
TZOFFSETTO:-0400
TZNAME:EDT
END:DAYLIGHT
END:VTIMEZONE
END:VCALENDAR