BEGIN:VCALENDAR
VERSION:2.0
PRODID:-//wp-events-plugin.com//7.2.3.1//EN
TZID:America/Detroit
X-WR-TIMEZONE:America/Detroit
BEGIN:VEVENT
UID:46119@annarborwithkids.com
DTSTART;TZID=America/Detroit:20260211T180000
DTEND;TZID=America/Detroit:20260211T190000
DTSTAMP:20260123T215751Z
URL:https://annarborwithkids.com/events/kindergarten-and-young-fives-round
 up/
SUMMARY:Kindergarten and Young Fives Roundup - AAPS Abbot
DESCRIPTION:
CATEGORIES:Arbor Annie's Highlights,Education,Elementary,Free,Indoor
 Activities,Kindergarten Information,Preschoolers
LOCATION:Abbot Elementary School\, 2670 Sequoia Parkway\, Ann Arbor\, Michi
 gan\, 48103\, West \, United States
GEO:42.29370590000001;-83.78509400000002
X-APPLE-STRUCTURED-LOCATION;VALUE=URI;X-ADDRESS=2670 Sequoia Parkway\, Ann 
 Arbor\, Michigan\, 48103\, West \, United States;X-APPLE-RADIUS=100;X-TITL
 E=Abbot Elementary School:geo:42.29370590000001,-83.78509400000002
END:VEVENT
BEGIN:VTIMEZONE
TZID:America/Detroit
X-LIC-LOCATION:America/Detroit
BEGIN:STANDARD
DTSTART:20251102T010000
TZOFFSETFROM:-0400
TZOFFSETTO:-0500
TZNAME:EST
END:STANDARD
END:VTIMEZONE
END:VCALENDAR