BEGIN:VCALENDAR
VERSION:2.0
PRODID:-//wp-events-plugin.com//7.2.3.1//EN
TZID:America/Detroit
X-WR-TIMEZONE:America/Detroit
BEGIN:VEVENT
UID:46128@annarborwithkids.com
DTSTART;TZID=America/Detroit:20260211T180000
DTEND;TZID=America/Detroit:20260211T190000
DTSTAMP:20260123T215816Z
URL:https://annarborwithkids.com/events/kindergarten-and-young-fives-round
 up-9/
SUMMARY:Kindergarten and Young Fives Roundup - AAPS Carpenter
DESCRIPTION:
CATEGORIES:Arbor Annie's Highlights,Education,Elementary,Free,Indoor
 Activities,Kindergarten Information,Preschoolers
LOCATION:Carpenter Elementry\, 4250 Central Blvd\,\, Ann Arbor\, Michigan\,
  48108\, United States
GEO:42.248725;-83.67608100000001
X-APPLE-STRUCTURED-LOCATION;VALUE=URI;X-ADDRESS=4250 Central Blvd\,\, Ann A
 rbor\, Michigan\, 48108\, United States;X-APPLE-RADIUS=100;X-TITLE=Carpent
 er Elementry:geo:42.248725,-83.67608100000001
END:VEVENT
BEGIN:VTIMEZONE
TZID:America/Detroit
X-LIC-LOCATION:America/Detroit
BEGIN:STANDARD
DTSTART:20251102T010000
TZOFFSETFROM:-0400
TZOFFSETTO:-0500
TZNAME:EST
END:STANDARD
END:VTIMEZONE
END:VCALENDAR