BEGIN:VCALENDAR
VERSION:2.0
PRODID:-//wp-events-plugin.com//7.2.3.1//EN
TZID:America/Detroit
X-WR-TIMEZONE:America/Detroit
BEGIN:VEVENT
UID:46126@annarborwithkids.com
DTSTART;TZID=America/Detroit:20260225T173000
DTEND;TZID=America/Detroit:20260225T183000
DTSTAMP:20260123T220137Z
URL:https://annarborwithkids.com/events/kindergarten-and-young-fives-round
 up-7/
SUMMARY:Kindergarten and Young Fives Roundup - AAPS Bryant/Pattengill
DESCRIPTION:\n\n\n\n
CATEGORIES:Arbor Annie's Highlights,Education,Elementary,Free,Indoor
 Activities,Kindergarten Information,Preschoolers
LOCATION:Bryant Elementary School\, 2150 Santa Rosa\, Ann Arbor\, Michigan\
 , 48108\, South\, United States
GEO:42.2325463;-83.71565799999996
X-APPLE-STRUCTURED-LOCATION;VALUE=URI;X-ADDRESS=2150 Santa Rosa\, Ann Arbor
 \, Michigan\, 48108\, South\, United States;X-APPLE-RADIUS=100;X-TITLE=Bry
 ant Elementary School:geo:42.2325463,-83.71565799999996
END:VEVENT
BEGIN:VTIMEZONE
TZID:America/Detroit
X-LIC-LOCATION:America/Detroit
BEGIN:STANDARD
DTSTART:20251102T010000
TZOFFSETFROM:-0400
TZOFFSETTO:-0500
TZNAME:EST
END:STANDARD
END:VTIMEZONE
END:VCALENDAR