BEGIN:VCALENDAR
VERSION:2.0
PRODID:-//wp-events-plugin.com//7.2.3.1//EN
TZID:America/Detroit
X-WR-TIMEZONE:America/Detroit
BEGIN:VEVENT
UID:46124@annarborwithkids.com
DTSTART;TZID=America/Detroit:20260219T170000
DTEND;TZID=America/Detroit:20260219T180000
DTSTAMP:20260123T220228Z
URL:https://annarborwithkids.com/events/kindergarten-and-young-fives-round
 up-5/
SUMMARY:Kindergarten and Young Fives Roundup - AAPS A2 STEAM
DESCRIPTION:
CATEGORIES:Arbor Annie's Highlights,Education,Elementary,Free,Indoor
 Activities,Kindergarten Information,Preschoolers
LOCATION:A2 Steam @ Northside\, 912 Barton Dr\, Ann Arbor\, Michigan\, 4810
 5\, North\, United States
GEO:42.298759;-83.73332920000001
X-APPLE-STRUCTURED-LOCATION;VALUE=URI;X-ADDRESS=912 Barton Dr\, Ann Arbor\,
  Michigan\, 48105\, North\, United States;X-APPLE-RADIUS=100;X-TITLE=A2 St
 eam @ Northside:geo:42.298759,-83.73332920000001
END:VEVENT
BEGIN:VTIMEZONE
TZID:America/Detroit
X-LIC-LOCATION:America/Detroit
BEGIN:STANDARD
DTSTART:20251102T010000
TZOFFSETFROM:-0400
TZOFFSETTO:-0500
TZNAME:EST
END:STANDARD
END:VTIMEZONE
END:VCALENDAR