BEGIN:VCALENDAR
VERSION:2.0
PRODID:-//wp-events-plugin.com//7.2.3.1//EN
TZID:America/Detroit
X-WR-TIMEZONE:America/Detroit
BEGIN:VEVENT
UID:46123@annarborwithkids.com
DTSTART;TZID=America/Detroit:20260225T173000
DTEND;TZID=America/Detroit:20260225T183000
DTSTAMP:20260123T220318Z
URL:https://annarborwithkids.com/events/kindergarten-and-young-fives-round
 up-4/
SUMMARY:Kindergarten and Young Fives Roundup - AAPS Angell
DESCRIPTION:
CATEGORIES:Arbor Annie's Highlights,Education,Elementary,Free,Indoor
 Activities,Kindergarten Information,Preschoolers
LOCATION:Angell Elementary School\, 1608 S. University Ave\, Ann Arbor\, Mi
 chigan\, 48104\, Downtown\, United States
GEO:42.274502;-83.72792400000003
X-APPLE-STRUCTURED-LOCATION;VALUE=URI;X-ADDRESS=1608 S. University Ave\, An
 n Arbor\, Michigan\, 48104\, Downtown\, United States;X-APPLE-RADIUS=100;X
 -TITLE=Angell Elementary School:geo:42.274502,-83.72792400000003
END:VEVENT
BEGIN:VTIMEZONE
TZID:America/Detroit
X-LIC-LOCATION:America/Detroit
BEGIN:STANDARD
DTSTART:20251102T010000
TZOFFSETFROM:-0400
TZOFFSETTO:-0500
TZNAME:EST
END:STANDARD
END:VTIMEZONE
END:VCALENDAR