BEGIN:VCALENDAR
VERSION:2.0
PRODID:-//wp-events-plugin.com//7.2.3.1//EN
TZID:America/Detroit
X-WR-TIMEZONE:America/Detroit
BEGIN:VEVENT
UID:46139@annarborwithkids.com
DTSTART;TZID=America/Detroit:20260211T180000
DTEND;TZID=America/Detroit:20260211T190000
DTSTAMP:20260123T220427Z
URL:https://annarborwithkids.com/events/kindergarten-and-young-fives-round
 up-20/
SUMMARY:Kindergarten and Young Fives Roundup - AAPS Wines
DESCRIPTION:
CATEGORIES:Arbor Annie's Highlights,Education,Elementary,Free,Indoor
 Activities,Kindergarten Information,Preschoolers
LOCATION:Wines Elementary School\, 1701 Newport\, Ann Arbor\, Michigan\, 48
 104\, West\, United States
GEO:42.300605;-83.77003490000004
X-APPLE-STRUCTURED-LOCATION;VALUE=URI;X-ADDRESS=1701 Newport\, Ann Arbor\, 
 Michigan\, 48104\, West\, United States;X-APPLE-RADIUS=100;X-TITLE=Wines E
 lementary School:geo:42.300605,-83.77003490000004
END:VEVENT
BEGIN:VTIMEZONE
TZID:America/Detroit
X-LIC-LOCATION:America/Detroit
BEGIN:STANDARD
DTSTART:20251102T010000
TZOFFSETFROM:-0400
TZOFFSETTO:-0500
TZNAME:EST
END:STANDARD
END:VTIMEZONE
END:VCALENDAR