BEGIN:VCALENDAR
VERSION:2.0
PRODID:-//wp-events-plugin.com//7.2.3.1//EN
TZID:America/Detroit
X-WR-TIMEZONE:America/Detroit
BEGIN:VEVENT
UID:46121@annarborwithkids.com
DTSTART;TZID=America/Detroit:20260211T180000
DTEND;TZID=America/Detroit:20260211T190000
DTSTAMP:20260123T220203Z
URL:https://annarborwithkids.com/events/kindergarten-and-young-fives-round
 up-2/
SUMMARY:Kindergarten and Young Fives Roundup & Tuition Preschool Open House
  - AAPS Allen
DESCRIPTION:\n\n\nThe Allen Roundup will also include information on their 
 tuition preschool.\n\n\n\n[wpv-view name="posts-by-id-shortcode" ids="4530
 0"]\n
CATEGORIES:Arbor Annie's Highlights,Education,Elementary,Free,Indoor
 Activities,Kindergarten Information,Preschool Open House,Preschoolers
LOCATION:Allen Elementary School\, 2560 Towner Blvd\, Ann Arbor\, Michigan\
 , 48104\, South\, United States
GEO:42.2513199;-83.71099149999998
X-APPLE-STRUCTURED-LOCATION;VALUE=URI;X-ADDRESS=2560 Towner Blvd\, Ann Arbo
 r\, Michigan\, 48104\, South\, United States;X-APPLE-RADIUS=100;X-TITLE=Al
 len Elementary School:geo:42.2513199,-83.71099149999998
END:VEVENT
BEGIN:VTIMEZONE
TZID:America/Detroit
X-LIC-LOCATION:America/Detroit
BEGIN:STANDARD
DTSTART:20251102T010000
TZOFFSETFROM:-0400
TZOFFSETTO:-0500
TZNAME:EST
END:STANDARD
END:VTIMEZONE
END:VCALENDAR