BEGIN:VCALENDAR
VERSION:2.0
PRODID:-//wp-events-plugin.com//7.2.3.1//EN
TZID:America/Detroit
X-WR-TIMEZONE:America/Detroit
BEGIN:VEVENT
UID:46138@annarborwithkids.com
DTSTART;TZID=America/Detroit:20260211T173000
DTEND;TZID=America/Detroit:20260211T183000
DTSTAMP:20260123T220457Z
URL:https://annarborwithkids.com/events/kindergarten-and-young-fives-round
 up-19/
SUMMARY:Kindergarten and Young Fives Roundup & Preschool Open House - AAPS 
 Thurston
DESCRIPTION:\n\n\nThurston's Roundup also includes an open house for their 
 tuition based preschool.\n
CATEGORIES:Arbor Annie's Highlights,Education,Elementary,Free,Indoor
 Activities,Kindergarten Information,Preschool Open House,Preschoolers
LOCATION:Thurston Elementary School\, 2300 Prarie\, Ann Arbor\, Michigan\, 
 48105\, North\, United States
GEO:42.307826;-83.70139499999999
X-APPLE-STRUCTURED-LOCATION;VALUE=URI;X-ADDRESS=2300 Prarie\, Ann Arbor\, M
 ichigan\, 48105\, North\, United States;X-APPLE-RADIUS=100;X-TITLE=Thursto
 n Elementary School:geo:42.307826,-83.70139499999999
END:VEVENT
BEGIN:VTIMEZONE
TZID:America/Detroit
X-LIC-LOCATION:America/Detroit
BEGIN:STANDARD
DTSTART:20251102T010000
TZOFFSETFROM:-0400
TZOFFSETTO:-0500
TZNAME:EST
END:STANDARD
END:VTIMEZONE
END:VCALENDAR