BEGIN:VCALENDAR
VERSION:2.0
PRODID:-//wp-events-plugin.com//7.2.3.1//EN
TZID:America/Detroit
X-WR-TIMEZONE:America/Detroit
BEGIN:VEVENT
UID:46135@annarborwithkids.com
DTSTART;TZID=America/Detroit:20260211T180000
DTEND;TZID=America/Detroit:20260211T193000
DTSTAMP:20260123T215924Z
URL:https://annarborwithkids.com/events/kindergarten-and-young-fives-round
 up-16/
SUMMARY:Kindergarten and Young Fives Roundup - AAPS Logan
DESCRIPTION:\n\n\n\n
CATEGORIES:Arbor Annie's Highlights,Education,Elementary,Free,Indoor
 Activities,Kindergarten Information,Preschoolers
LOCATION:Logan Elementary School\, 2685 Traver Blvd\, Ann Arbor\, Michigan\
 , 48105\, North\, United States
GEO:42.312822;-83.70999599999999
X-APPLE-STRUCTURED-LOCATION;VALUE=URI;X-ADDRESS=2685 Traver Blvd\, Ann Arbo
 r\, Michigan\, 48105\, North\, United States;X-APPLE-RADIUS=100;X-TITLE=Lo
 gan Elementary School:geo:42.312822,-83.70999599999999
END:VEVENT
BEGIN:VTIMEZONE
TZID:America/Detroit
X-LIC-LOCATION:America/Detroit
BEGIN:STANDARD
DTSTART:20251102T010000
TZOFFSETFROM:-0400
TZOFFSETTO:-0500
TZNAME:EST
END:STANDARD
END:VTIMEZONE
END:VCALENDAR