BEGIN:VCALENDAR
VERSION:2.0
PRODID:-//wp-events-plugin.com//7.2.3.1//EN
TZID:America/Detroit
X-WR-TIMEZONE:America/Detroit
BEGIN:VEVENT
UID:46134@annarborwithkids.com
DTSTART;TZID=America/Detroit:20260223T173000
DTEND;TZID=America/Detroit:20260223T183000
DTSTAMP:20260123T215943Z
URL:https://annarborwithkids.com/events/kindergarten-and-young-fives-round
 up-15/
SUMMARY:Kindergarten and Young Fives Roundup - AAPS Lawton
DESCRIPTION:
CATEGORIES:Arbor Annie's Highlights,Education,Elementary,Free,Indoor
 Activities,Kindergarten Information,Preschoolers
LOCATION:Lawton Elementary\, 2250 S. Seventh Street\, Ann Arbor\, Michigan\
 , 48103\, South\, United States
GEO:42.2536539;-83.76460209999999
X-APPLE-STRUCTURED-LOCATION;VALUE=URI;X-ADDRESS=2250 S. Seventh Street\, An
 n Arbor\, Michigan\, 48103\, South\, United States;X-APPLE-RADIUS=100;X-TI
 TLE=Lawton Elementary:geo:42.2536539,-83.76460209999999
END:VEVENT
BEGIN:VTIMEZONE
TZID:America/Detroit
X-LIC-LOCATION:America/Detroit
BEGIN:STANDARD
DTSTART:20251102T010000
TZOFFSETFROM:-0400
TZOFFSETTO:-0500
TZNAME:EST
END:STANDARD
END:VTIMEZONE
END:VCALENDAR