BEGIN:VCALENDAR
VERSION:2.0
PRODID:-//wp-events-plugin.com//7.2.3.1//EN
TZID:America/Detroit
X-WR-TIMEZONE:America/Detroit
BEGIN:VEVENT
UID:46133@annarborwithkids.com
DTSTART;TZID=America/Detroit:20260225T173000
DTEND;TZID=America/Detroit:20260225T183000
DTSTAMP:20260123T220409Z
URL:https://annarborwithkids.com/events/kindergarten-and-young-fives-round
 up-14/
SUMMARY:Kindergarten and Young Fives Roundup - AAPS Lakewood
DESCRIPTION:
CATEGORIES:Arbor Annie's Highlights,Education,Elementary,Free,Indoor
 Activities,Kindergarten Information,Preschoolers
LOCATION:Lakewood Elementary School\, 344 Gralake\, Ann Arbor\, Michigan\, 
 48103\, West\, United States
GEO:42.2769434;-83.79073240000002
X-APPLE-STRUCTURED-LOCATION;VALUE=URI;X-ADDRESS=344 Gralake\, Ann Arbor\, M
 ichigan\, 48103\, West\, United States;X-APPLE-RADIUS=100;X-TITLE=Lakewood
  Elementary School:geo:42.2769434,-83.79073240000002
END:VEVENT
BEGIN:VTIMEZONE
TZID:America/Detroit
X-LIC-LOCATION:America/Detroit
BEGIN:STANDARD
DTSTART:20251102T010000
TZOFFSETFROM:-0400
TZOFFSETTO:-0500
TZNAME:EST
END:STANDARD
END:VTIMEZONE
END:VCALENDAR