BEGIN:VCALENDAR
VERSION:2.0
PRODID:-//wp-events-plugin.com//7.2.3.1//EN
TZID:America/Detroit
X-WR-TIMEZONE:America/Detroit
BEGIN:VEVENT
UID:46132@annarborwithkids.com
DTSTART;TZID=America/Detroit:20260211T173000
DTEND;TZID=America/Detroit:20260211T183000
DTSTAMP:20260123T220007Z
URL:https://annarborwithkids.com/events/kindergarten-and-young-fives-round
 up-13/
SUMMARY:Kindergarten and Young Fives Roundup - AAPS King
DESCRIPTION:
CATEGORIES:Arbor Annie's Highlights,Education,Elementary,Free,Indoor
 Activities,Kindergarten Information,Preschoolers
LOCATION:King Elementary School\, 3800 Waldenwood Drive\, Ann Arbor\, Michi
 gan\, 48105\, East\, United States
GEO:42.2848701;-83.68644749999999
X-APPLE-STRUCTURED-LOCATION;VALUE=URI;X-ADDRESS=3800 Waldenwood Drive\, Ann
  Arbor\, Michigan\, 48105\, East\, United States;X-APPLE-RADIUS=100;X-TITL
 E=King Elementary School:geo:42.2848701,-83.68644749999999
END:VEVENT
BEGIN:VTIMEZONE
TZID:America/Detroit
X-LIC-LOCATION:America/Detroit
BEGIN:STANDARD
DTSTART:20251102T010000
TZOFFSETFROM:-0400
TZOFFSETTO:-0500
TZNAME:EST
END:STANDARD
END:VTIMEZONE
END:VCALENDAR