BEGIN:VCALENDAR
VERSION:2.0
PRODID:-//wp-events-plugin.com//7.2.3.1//EN
TZID:America/Detroit
X-WR-TIMEZONE:America/Detroit
BEGIN:VEVENT
UID:46131@annarborwithkids.com
DTSTART;TZID=America/Detroit:20260219T173000
DTEND;TZID=America/Detroit:20260219T183000
DTSTAMP:20260123T220021Z
URL:https://annarborwithkids.com/events/kindergarten-and-young-fives-round
 up-12/
SUMMARY:Kindergarten and Young Fives Roundup - AAPS Haisley
DESCRIPTION:\n\n\n\n
CATEGORIES:Arbor Annie's Highlights,Education,Elementary,Free,Indoor
 Activities,Kindergarten Information,Preschoolers
LOCATION:Haisley Elementary School\, 825 Duncan\, Ann Arbor\, Michigan\, 48
 103\, West\, United States
GEO:42.289547;-83.77697899999998
X-APPLE-STRUCTURED-LOCATION;VALUE=URI;X-ADDRESS=825 Duncan\, Ann Arbor\, Mi
 chigan\, 48103\, West\, United States;X-APPLE-RADIUS=100;X-TITLE=Haisley E
 lementary School:geo:42.289547,-83.77697899999998
END:VEVENT
BEGIN:VTIMEZONE
TZID:America/Detroit
X-LIC-LOCATION:America/Detroit
BEGIN:STANDARD
DTSTART:20251102T010000
TZOFFSETFROM:-0400
TZOFFSETTO:-0500
TZNAME:EST
END:STANDARD
END:VTIMEZONE
END:VCALENDAR