BEGIN:VCALENDAR
VERSION:2.0
PRODID:-//wp-events-plugin.com//7.2.3.1//EN
TZID:America/Detroit
X-WR-TIMEZONE:America/Detroit
BEGIN:VEVENT
UID:46130@annarborwithkids.com
DTSTART;TZID=America/Detroit:20260211T174500
DTEND;TZID=America/Detroit:20260211T184500
DTSTAMP:20260123T220051Z
URL:https://annarborwithkids.com/events/kindergarten-and-young-fives-round
 up-11/
SUMMARY:Kindergarten and Young Fives Roundup - AAPS Eberwhite
DESCRIPTION:
CATEGORIES:Arbor Annie's Highlights,Education,Elementary,Free,Indoor
 Activities,Kindergarten Information,Preschoolers
LOCATION:Eberwhite Elementary School\, 800 Soule Blvd\, Ann Arbor\, Michiga
 n\, 48103\, West\, United States
GEO:42.2719999;-83.76432290000002
X-APPLE-STRUCTURED-LOCATION;VALUE=URI;X-ADDRESS=800 Soule Blvd\, Ann Arbor\
 , Michigan\, 48103\, West\, United States;X-APPLE-RADIUS=100;X-TITLE=Eberw
 hite Elementary School:geo:42.2719999,-83.76432290000002
END:VEVENT
BEGIN:VTIMEZONE
TZID:America/Detroit
X-LIC-LOCATION:America/Detroit
BEGIN:STANDARD
DTSTART:20251102T010000
TZOFFSETFROM:-0400
TZOFFSETTO:-0500
TZNAME:EST
END:STANDARD
END:VTIMEZONE
END:VCALENDAR