BEGIN:VCALENDAR
VERSION:2.0
PRODID:-//wp-events-plugin.com//7.2.3.1//EN
TZID:America/Detroit
X-WR-TIMEZONE:America/Detroit
BEGIN:VEVENT
UID:46129@annarborwithkids.com
DTSTART;TZID=America/Detroit:20260225T173000
DTEND;TZID=America/Detroit:20260225T183000
DTSTAMP:20260123T220111Z
URL:https://annarborwithkids.com/events/kindergarten-and-young-fives-round
 up-10/
SUMMARY:Kindergarten and Young Fives Roundup - AAPS Dicken
DESCRIPTION:
CATEGORIES:Arbor Annie's Highlights,Education,Elementary,Free,Indoor
 Activities,Kindergarten Information,Preschoolers
LOCATION:Dicken Elementary\, 2135 Runnymede Boulevard\, Ann Arbor\, Michiga
 n\, 48103\, West\, United States
GEO:42.26293829999999;-83.77642449999996
X-APPLE-STRUCTURED-LOCATION;VALUE=URI;X-ADDRESS=2135 Runnymede Boulevard\, 
 Ann Arbor\, Michigan\, 48103\, West\, United States;X-APPLE-RADIUS=100;X-T
 ITLE=Dicken Elementary:geo:42.26293829999999,-83.77642449999996
END:VEVENT
BEGIN:VTIMEZONE
TZID:America/Detroit
X-LIC-LOCATION:America/Detroit
BEGIN:STANDARD
DTSTART:20251102T010000
TZOFFSETFROM:-0400
TZOFFSETTO:-0500
TZNAME:EST
END:STANDARD
END:VTIMEZONE
END:VCALENDAR