BEGIN:VCALENDAR
VERSION:2.0
PRODID:-//wp-events-plugin.com//7.2.3.1//EN
TZID:America/Detroit
X-WR-TIMEZONE:America/Detroit
BEGIN:VEVENT
UID:75408@annarborwithkids.com
DTSTART;TZID=America/Detroit:20251026T100000
DTEND;TZID=America/Detroit:20251026T130000
DTSTAMP:20251009T200512Z
URL:https://annarborwithkids.com/events/kids-trunk-n-treat/
SUMMARY:Kids Trunk N Treat
DESCRIPTION:\nBIG: Best in Games is holding a Kids Trunk or Treat!\n\n\n\nT
 here will be candy stations\, carnival games\, a costume contest and more.
  \n\n\n\nReserve your spot now!\n\n\n\n\n\n\n\n\n
CATEGORIES:Advance Registration,Arbor Annie's
 Highlights,Elementary,Food,Free,Games,Halloween,Meal,Middle
 Schoolers,Preschoolers,Trick or Treat
LOCATION:BIG: Best in Games\, 4095 Carpenter Rd\, Ypsilanti\, Michigan\, 48
 197\, Pittsfield Township\, United States
GEO:42.228245;-83.67893
X-APPLE-STRUCTURED-LOCATION;VALUE=URI;X-ADDRESS=4095 Carpenter Rd\, Ypsilan
 ti\, Michigan\, 48197\, Pittsfield Township\, United States;X-APPLE-RADIUS
 =100;X-TITLE=BIG: Best in Games:geo:42.228245,-83.67893
END:VEVENT
BEGIN:VTIMEZONE
TZID:America/Detroit
X-LIC-LOCATION:America/Detroit
BEGIN:DAYLIGHT
DTSTART:20250309T030000
TZOFFSETFROM:-0500
TZOFFSETTO:-0400
TZNAME:EDT
END:DAYLIGHT
END:VTIMEZONE
END:VCALENDAR