BEGIN:VCALENDAR
VERSION:2.0
PRODID:-//wp-events-plugin.com//7.2.3.1//EN
TZID:America/Detroit
X-WR-TIMEZONE:America/Detroit
BEGIN:VEVENT
UID:90568@annarborwithkids.com
DTSTART;TZID=America/Detroit:20251115T180000
DTEND;TZID=America/Detroit:20251115T203000
DTSTAMP:20251113T202347Z
URL:https://annarborwithkids.com/events/kids-night-out-turkey-circuits-gob
 ble-bots/
SUMMARY:Kids’ Night Out: Turkey Circuits &amp\; Gobble Bots
DESCRIPTION:\nTrade gravy duty for grown-up freedom while your young engine
 ers cook up electronic turkey magic!\n\n\n\nWhat’s on the menu (besides 
 pie):\n\n\n\n\nLED-Lit Turkey Badge – Craft a cardboard turkey\, embed 
 a paper circuit\, and watch its feathers twinkle red-orange like a mini bo
 nfire.\n\n\n\nGobble Bot Challenge – Snap together a goofy\, wobbling m
 otor-powered turkey that struts across the table—best gobbler wins a pri
 ze.\n\n\n\nThanksgiving STEM Trivia – Quick-fire facts (Why do leaves c
 hange color? Which bird really inspired the first balloon in the Macy’s 
 parade?)\n\n\n\nPizza &amp\; Cran-Splash Break – Fuel the flock with ho
 t slices and a festive beverage.\n\n\n\nMovie Wind-Down – If time allow
 s\, they’ll queue up an age-appropriate fall classic while circuits “c
 ool.”\n\n\n\n\nFor grades K-6\n\n\n\n\n\n\n\n\n
ATTACH;FMTTYPE=image/jpeg:https://annarborwithkids.com/wp-content/uploads/
 Screenshot-2025-07-22-at-1.51.09-PM.png
CATEGORIES:Advance Registration,Arbor Annie's
 Highlights,Classes,Computer,Elementary,Food,Games,Indoor Activities,Middle
 Schoolers,Parents Night Out,Registration Required,STEM,Thanksgiving,Video
 Games
LOCATION:Future Innovators Academy\, 4130 Varsity Dr\, Ann Arbor\, Michigan
 \, 48108\, United States
GEO:42.236319;-83.733963
X-APPLE-STRUCTURED-LOCATION;VALUE=URI;X-ADDRESS=4130 Varsity Dr\, Ann Arbor
 \, Michigan\, 48108\, United States;X-APPLE-RADIUS=100;X-TITLE=Future Inno
 vators Academy:geo:42.236319,-83.733963
END:VEVENT
BEGIN:VTIMEZONE
TZID:America/Detroit
X-LIC-LOCATION:America/Detroit
BEGIN:STANDARD
DTSTART:20251102T010000
TZOFFSETFROM:-0400
TZOFFSETTO:-0500
TZNAME:EST
END:STANDARD
END:VTIMEZONE
END:VCALENDAR