BEGIN:VCALENDAR
VERSION:2.0
PRODID:-//wp-events-plugin.com//7.2.3.1//EN
TZID:America/Detroit
X-WR-TIMEZONE:America/Detroit
BEGIN:VEVENT
UID:84510@annarborwithkids.com
DTSTART;TZID=America/Detroit:20260503T110000
DTEND;TZID=America/Detroit:20260503T114500
DTSTAMP:20260423T212946Z
URL:https://annarborwithkids.com/events/kids-move-3/
SUMMARY:Kids Move: Little Kids
DESCRIPTION:\nJoin Jesse Deucher and Sarah Kairis\, creators of PandaFit\, 
 for fun games to keep kids active! This sensory friendly program is open t
 o all\n\n\n\nFor preschool- age 5.\n\n\n\nThe session is repeated at noon 
 for grades K-5\n\n\n
CATEGORIES:Arbor Annie's
 Highlights,Elementary,Fitness,Fitness/Health,Free,Indoor
 Activities,Preschoolers
LOCATION:Pittsfield Branch Library\, 2359 Oak Valley Dr\, Ann Arbor\, Michi
 gan\, 48103\, Pittsfield\, United States
GEO:42.2526001;-83.77801540000002
X-APPLE-STRUCTURED-LOCATION;VALUE=URI;X-ADDRESS=2359 Oak Valley Dr\, Ann Ar
 bor\, Michigan\, 48103\, Pittsfield\, United States;X-APPLE-RADIUS=100;X-T
 ITLE=Pittsfield Branch Library:geo:42.2526001,-83.77801540000002
END:VEVENT
BEGIN:VTIMEZONE
TZID:America/Detroit
X-LIC-LOCATION:America/Detroit
BEGIN:DAYLIGHT
DTSTART:20260308T030000
TZOFFSETFROM:-0500
TZOFFSETTO:-0400
TZNAME:EDT
END:DAYLIGHT
END:VTIMEZONE
END:VCALENDAR