BEGIN:VCALENDAR
VERSION:2.0
PRODID:-//wp-events-plugin.com//7.2.3.1//EN
TZID:America/Detroit
X-WR-TIMEZONE:America/Detroit
BEGIN:VEVENT
UID:90573@annarborwithkids.com
DTSTART;TZID=America/Detroit:20251119T163000
DTEND;TZID=America/Detroit:20251119T180000
DTSTAMP:20251117T203131Z
URL:https://annarborwithkids.com/events/kids-in-the-kitchen-thanksgiving-t
 reats/
SUMMARY:Kids in the Kitchen: Thanksgiving Treats
DESCRIPTION:\nAnn Arbor Parks is celebrating local foods with kids ages 10-
 15 with an adult. \n\n\n\nOn November 19\, join them to make Thanksgiving 
 Treats. The event will focus on treats that can be grown locally including
  wild rice\, pumpkins\, and cranberries. \n\n\n\nDishes can be made vegeta
 rian or vegan\, the crust will contain gluten.\n\n\n\nPreregistration is r
 equired.\n\n\n\n\n
CATEGORIES:Advance Registration,Arbor Annie's
 Highlights,Elementary,Food,Free,High Schoolers,Indoor Activities,Middle
 Schoolers,Registration Required,Thanksgiving
LOCATION:Ann Arbor Senior Center\, 1320 Baldwin Avenue\, Ann Arbor\, Michig
 an\, 48104\, South\, United States
GEO:42.2650621;-83.7265878
X-APPLE-STRUCTURED-LOCATION;VALUE=URI;X-ADDRESS=1320 Baldwin Avenue\, Ann A
 rbor\, Michigan\, 48104\, South\, United States;X-APPLE-RADIUS=100;X-TITLE
 =Ann Arbor Senior Center:geo:42.2650621,-83.7265878
END:VEVENT
BEGIN:VTIMEZONE
TZID:America/Detroit
X-LIC-LOCATION:America/Detroit
BEGIN:STANDARD
DTSTART:20251102T010000
TZOFFSETFROM:-0400
TZOFFSETTO:-0500
TZNAME:EST
END:STANDARD
END:VTIMEZONE
END:VCALENDAR