BEGIN:VCALENDAR
VERSION:2.0
PRODID:-//wp-events-plugin.com//7.2.3.1//EN
TZID:America/Detroit
X-WR-TIMEZONE:America/Detroit
BEGIN:VEVENT
UID:91397@annarborwithkids.com
DTSTART;TZID=America/Detroit:20260311T163000
DTEND;TZID=America/Detroit:20260311T173000
DTSTAMP:20260107T224308Z
URL:https://annarborwithkids.com/events/kids-chess-clu-2026-01-07-2026-01-
 14-2026-01-21-2026-01-28-2026-02-04-2026-02-11-2026-02-18-2026-02-25-2026-
 03-04-2026-03-11/
SUMMARY:Youth Chess Club
DESCRIPTION:\nYouth ages 5-18 and their families are invited to drop in and
  play chess this winter.\n\n\n\nIf you're new to chess\, you can play Dino
 saur Chess on the iPads to learn how the pieces move or play with a teen v
 olunteer.\n\n\n\nEach month they'll play the following schedule:\n\n\n\n\n
 Week 1 - Mini Lesson &amp\; Casual Play\n\n\n\nWeek 2 - Rated Games with C
 lock Play\n\n\n\nWeek 3 - Mini Lesson &amp\; Casual Play\n\n\n\nWeek 4 - C
 hess Puzzles &amp\; Casual Play\n\n\n\n\nRegular attendees qualify for a f
 ree US Chess membership and will be rated at mini tournaments\, thanks to 
 the Toyota Foundation's support of Project STEM @ YDL. Email jodi@ypsilib
 rary.org for more information.\n
CATEGORIES:Chess,Elementary,Free,Games,High Schoolers,Indoor
 Activities,Middle Schoolers
LOCATION:Ypsilanti District Library - Whittaker Rd\, 5577 Whittaker Rd\, Yp
 silanti\, Michigan\, 48197\, Ypsilanti\, United States
GEO:42.208097;-83.61557
X-APPLE-STRUCTURED-LOCATION;VALUE=URI;X-ADDRESS=5577 Whittaker Rd\, Ypsilan
 ti\, Michigan\, 48197\, Ypsilanti\, United States;X-APPLE-RADIUS=100;X-TIT
 LE=Ypsilanti District Library - Whittaker Rd:geo:42.208097,-83.61557
END:VEVENT
BEGIN:VTIMEZONE
TZID:America/Detroit
X-LIC-LOCATION:America/Detroit
BEGIN:DAYLIGHT
DTSTART:20260308T030000
TZOFFSETFROM:-0500
TZOFFSETTO:-0400
TZNAME:EDT
END:DAYLIGHT
END:VTIMEZONE
END:VCALENDAR