BEGIN:VCALENDAR
VERSION:2.0
PRODID:-//wp-events-plugin.com//7.2.3.1//EN
TZID:America/Detroit
X-WR-TIMEZONE:America/Detroit
BEGIN:VEVENT
UID:77249@annarborwithkids.com
DTSTART;TZID=America/Detroit:20260331T130000
DTEND;TZID=America/Detroit:20260331T143000
DTSTAMP:20260312T201434Z
URL:https://annarborwithkids.com/events/k-5-nature-crafts-build-a-wildflow
 er/
SUMMARY:Nature Crafts: Plants to Jam
DESCRIPTION:\nJoin A2Parks inside the Burns Park warming hut  (adjacent to
  the Ann Arbor Senior Center) to plant a local berry seed to grow at home 
 and make fresh jam using berries and sugar. For K–5 students with an adu
 lt. Free\; registration required\n\n\n\n\n\n[wpv-view name="linked-playgr
 ound"]\n
CATEGORIES:Advance Registration,Arbor Annie's
 Highlights,Crafts,Elementary,Free,Nature,Outdoor,Registration Required
LOCATION:Burns Park\, 1300 Baldwin Ave\, Ann Arbor\, Michigan\, 48104\, Dow
 ntown\, United States
GEO:42.265889;-83.728251
X-APPLE-STRUCTURED-LOCATION;VALUE=URI;X-ADDRESS=1300 Baldwin Ave\, Ann Arbo
 r\, Michigan\, 48104\, Downtown\, United States;X-APPLE-RADIUS=100;X-TITLE
 =Burns Park:geo:42.265889,-83.728251
END:VEVENT
BEGIN:VTIMEZONE
TZID:America/Detroit
X-LIC-LOCATION:America/Detroit
BEGIN:DAYLIGHT
DTSTART:20260308T030000
TZOFFSETFROM:-0500
TZOFFSETTO:-0400
TZNAME:EDT
END:DAYLIGHT
END:VTIMEZONE
END:VCALENDAR