BEGIN:VCALENDAR
VERSION:2.0
PRODID:-//wp-events-plugin.com//7.2.3.1//EN
TZID:America/Detroit
X-WR-TIMEZONE:America/Detroit
BEGIN:VEVENT
UID:92790@annarborwithkids.com
DTSTART;TZID=America/Detroit:20260330T130000
DTEND;TZID=America/Detroit:20260330T143000
DTSTAMP:20260303T223247Z
URL:https://annarborwithkids.com/events/k-5-animal-tracks/
SUMMARY:K-5 Animal Tracks
DESCRIPTION:\nLearn which local animals leave their tracks behind for us to
  find and make your own track out of clay to take home! \n\n\n\nIf the we
 ather is nice\, the event will include time outdoors.\n\n\n\nFor K-5th gra
 de students and an adult. Preregistration required. Space is limited.\n\n\
 n\nMeet at the Veterans Park Ice Arena Meeting Room.\n\n\n\nQuestions? Con
 tact epotter@a2gov.org. \n\n\n
CATEGORIES:Advance Registration,Arbor Annie's
 Highlights,Crafts,Elementary,Free,Indoor Activities,Registration
 Required,Winter Fun
LOCATION:Veterans Ice Arena\, 2150 Jackson Rd\, Ann Arbor\, MI\, 48103\, We
 st Ann Arbor\, United States
GEO:42.2830321;-83.78894170000001
X-APPLE-STRUCTURED-LOCATION;VALUE=URI;X-ADDRESS=2150 Jackson Rd\, Ann Arbor
 \, MI\, 48103\, West Ann Arbor\, United States;X-APPLE-RADIUS=100;X-TITLE=
 Veterans Ice Arena:geo:42.2830321,-83.78894170000001
END:VEVENT
BEGIN:VTIMEZONE
TZID:America/Detroit
X-LIC-LOCATION:America/Detroit
BEGIN:DAYLIGHT
DTSTART:20260308T030000
TZOFFSETFROM:-0500
TZOFFSETTO:-0400
TZNAME:EDT
END:DAYLIGHT
END:VTIMEZONE
END:VCALENDAR