BEGIN:VCALENDAR
VERSION:2.0
PRODID:-//wp-events-plugin.com//7.2.3.1//EN
TZID:America/Detroit
X-WR-TIMEZONE:America/Detroit
BEGIN:VEVENT
UID:76577@annarborwithkids.com
DTSTART;TZID=America/Detroit:20260423T130000
DTEND;TZID=America/Detroit:20260423T140000
DTSTAMP:20260323T184102Z
URL:https://annarborwithkids.com/events/junk-journaling/
SUMMARY:Junk Journaling
DESCRIPTION:\nJunk Journaling: Scrapbooking's messier little sibling.\n\n\n
 \nThe point of a Junk Journal is to fill a journal with little things that
  make you happy! Unlike scrapbooking\, the final product isn't for others 
 to look at in the future–it's all about making something\, right now\, w
 ith what you have on hand. Of course\, if you love what you've made\, ther
 e's nothing stopping you from showing it off!\n\n\n\nJoin AADL and make a 
 journal with all kinds of junk–stickers\, drawings\, washi tape\, intere
 sting paper\, pictures\, and much more! Bring your own junk\, or make use 
 of the junk they have.\n\n\n\nFor teens &amp\; adults.\n\n\n
CATEGORIES:Arbor Annie's Highlights,Crafts,Free,High Schoolers,Indoor
 Activities,Middle Schoolers,Parents
LOCATION:Malletts Creek Branch Library\, 3090 E Eisenhower Parkway\, Ann Ar
 bor\, Michigan\, 48108\, South\, United States
GEO:42.2436533;-83.71799220000003
X-APPLE-STRUCTURED-LOCATION;VALUE=URI;X-ADDRESS=3090 E Eisenhower Parkway\,
  Ann Arbor\, Michigan\, 48108\, South\, United States;X-APPLE-RADIUS=100;X
 -TITLE=Malletts Creek Branch Library:geo:42.2436533,-83.71799220000003
END:VEVENT
BEGIN:VTIMEZONE
TZID:America/Detroit
X-LIC-LOCATION:America/Detroit
BEGIN:DAYLIGHT
DTSTART:20260308T030000
TZOFFSETFROM:-0500
TZOFFSETTO:-0400
TZNAME:EDT
END:DAYLIGHT
END:VTIMEZONE
END:VCALENDAR