BEGIN:VCALENDAR
VERSION:2.0
PRODID:-//wp-events-plugin.com//7.2.3.1//EN
TZID:America/Detroit
X-WR-TIMEZONE:America/Detroit
BEGIN:VEVENT
UID:78655@annarborwithkids.com
DTSTART;TZID=America/Detroit:20250619T173000
DTEND;TZID=America/Detroit:20250619T193000
DTSTAMP:20250528T192505Z
URL:https://annarborwithkids.com/events/japan-week-star-festival-paper-lan
 terns/
SUMMARY:Japan Week | Paper Sashiko Demonstration &amp\; Artist Talk with Hi
 roko Lancour
DESCRIPTION:\nArtist Hiroko Lancour will share a demonstration and a talk o
 n her unique Paper Sashiko Series. Hiroko Lancour is a Japanese-born mixed
 -media artist with an MFA from Wayne State University. Hiroko's work is in
 fluenced by her cross-cultural background of East and West\, as well as he
 r prior career as a systems analyst.\n\n\n\nFor teens &amp\; adults. Held 
 in First Floor Lobby\n\n\n\nThis event is part of Japan Week and is in p
 artnership with the University of Michigan Center for Japanese Studies.\n
 \n\n\n\n\n\n\n\n
CATEGORIES:Arbor Annie's Highlights,BIPOC,Crafts,Cultural
 Celebration,Elementary,Free,High Schoolers,Indoor Activities,Middle
 Schoolers,Parents
LOCATION:Downtown Branch of AADL\, 343 South Fifth Avenue\, Ann Arbor\, Mic
 higan\, 48104\, Downtown\, United States
GEO:42.278198;-83.745971
X-APPLE-STRUCTURED-LOCATION;VALUE=URI;X-ADDRESS=343 South Fifth Avenue\, An
 n Arbor\, Michigan\, 48104\, Downtown\, United States;X-APPLE-RADIUS=100;X
 -TITLE=Downtown Branch of AADL:geo:42.278198,-83.745971
END:VEVENT
BEGIN:VTIMEZONE
TZID:America/Detroit
X-LIC-LOCATION:America/Detroit
BEGIN:DAYLIGHT
DTSTART:20250309T030000
TZOFFSETFROM:-0500
TZOFFSETTO:-0400
TZNAME:EDT
END:DAYLIGHT
END:VTIMEZONE
END:VCALENDAR