BEGIN:VCALENDAR
VERSION:2.0
PRODID:-//wp-events-plugin.com//7.2.3.1//EN
TZID:America/Detroit
X-WR-TIMEZONE:America/Detroit
BEGIN:VEVENT
UID:92875@annarborwithkids.com
DTSTART;TZID=America/Detroit:20260401T140000
DTEND;TZID=America/Detroit:20260401T150000
DTSTAMP:20260309T205916Z
URL:https://annarborwithkids.com/events/investigators-party/
SUMMARY:InvestiGators Party
DESCRIPTION:\nCelebrate all things&nbsp\;InvestiGators! Drop in for crafts\
 , games\, and activities inspired by your favorite alligator private inves
 tigators\, Mango and Brash.\n\n\n\nFor children of all ages\n\n\n\nNo regi
 stration required.\n\n\n\n\n
CATEGORIES:Arbor Annie's Highlights,Crafts,Elementary,Free,Indoor
 Activities,Middle Schoolers,Preschoolers
LOCATION:Dexter District Library\, 3255 Alpine St\, Dexter\, Michigan\, 481
 30\, Dexter\, United States
GEO:42.340266;-83.88900000000001
X-APPLE-STRUCTURED-LOCATION;VALUE=URI;X-ADDRESS=3255 Alpine St\, Dexter\, M
 ichigan\, 48130\, Dexter\, United States;X-APPLE-RADIUS=100;X-TITLE=Dexter
  District Library:geo:42.340266,-83.88900000000001
END:VEVENT
BEGIN:VTIMEZONE
TZID:America/Detroit
X-LIC-LOCATION:America/Detroit
BEGIN:DAYLIGHT
DTSTART:20260308T030000
TZOFFSETFROM:-0500
TZOFFSETTO:-0400
TZNAME:EDT
END:DAYLIGHT
END:VTIMEZONE
END:VCALENDAR