BEGIN:VCALENDAR
VERSION:2.0
PRODID:-//wp-events-plugin.com//7.2.3.1//EN
TZID:America/Detroit
X-WR-TIMEZONE:America/Detroit
BEGIN:VEVENT
UID:93225@annarborwithkids.com
DTSTART;TZID=America/Detroit:20260421T173000
DTEND;TZID=America/Detroit:20260421T190000
DTSTAMP:20260323T183607Z
URL:https://annarborwithkids.com/events/intuitive-art-vase-painting/
SUMMARY:Intuitive Art: Vase Painting
DESCRIPTION:\nIntuitive art is the process of following one's intuition to 
 create art - no technical skill needed! Drop in and paint a small ceramic 
 vase with AADL's acrylic paint.\n\n\n\nA tips and techniques sheet will be
  made available for you to either use or ignore.\n\n\n\nFor Teens &amp\; A
 dults.\n\n\n
CATEGORIES:Arbor Annie's Highlights,Crafts,Free,High Schoolers,Indoor
 Activities,Parents
LOCATION:Traverwood Branch of AADL\, 3333 Traverwood Dr\, Ann Arbor\, Michi
 gan\, 48105\, North Ann Arbor\, United States
GEO:42.307952;-83.71480500000001
X-APPLE-STRUCTURED-LOCATION;VALUE=URI;X-ADDRESS=3333 Traverwood Dr\, Ann Ar
 bor\, Michigan\, 48105\, North Ann Arbor\, United States;X-APPLE-RADIUS=10
 0;X-TITLE=Traverwood Branch of AADL:geo:42.307952,-83.71480500000001
END:VEVENT
BEGIN:VTIMEZONE
TZID:America/Detroit
X-LIC-LOCATION:America/Detroit
BEGIN:DAYLIGHT
DTSTART:20260308T030000
TZOFFSETFROM:-0500
TZOFFSETTO:-0400
TZNAME:EDT
END:DAYLIGHT
END:VTIMEZONE
END:VCALENDAR