BEGIN:VCALENDAR
VERSION:2.0
PRODID:-//wp-events-plugin.com//7.2.3.1//EN
TZID:America/Detroit
X-WR-TIMEZONE:America/Detroit
BEGIN:VEVENT
UID:83758@annarborwithkids.com
DTSTART;TZID=America/Detroit:20260311T173000
DTEND;TZID=America/Detroit:20260311T193000
DTSTAMP:20260218T232106Z
URL:https://annarborwithkids.com/events/introductory-woodcarving-lab-snow-
 people-2/
SUMMARY:Introductory Woodcarving: Carving Faces
DESCRIPTION:\nThis introductory program will provide the tools\, knowledge 
 and materials needed to carve a traditional old man face.\n\n\n\nDue to th
 e tools required for this class\, this program is intended for teens and a
 dults.\n\n\n\nFor Teens &amp\; Adults. Held in Secret Lab\n\n\n\n\n
CATEGORIES:Arbor Annie's Highlights,Art,Christmas,Classes,Crafts,Free,High
 Schoolers,Indoor Activities,Parents,Winter Fun
LOCATION:Downtown Branch of AADL\, 343 South Fifth Avenue\, Ann Arbor\, Mic
 higan\, 48104\, Downtown\, United States
GEO:42.278198;-83.745971
X-APPLE-STRUCTURED-LOCATION;VALUE=URI;X-ADDRESS=343 South Fifth Avenue\, An
 n Arbor\, Michigan\, 48104\, Downtown\, United States;X-APPLE-RADIUS=100;X
 -TITLE=Downtown Branch of AADL:geo:42.278198,-83.745971
END:VEVENT
BEGIN:VTIMEZONE
TZID:America/Detroit
X-LIC-LOCATION:America/Detroit
BEGIN:DAYLIGHT
DTSTART:20260308T030000
TZOFFSETFROM:-0500
TZOFFSETTO:-0400
TZNAME:EDT
END:DAYLIGHT
END:VTIMEZONE
END:VCALENDAR