BEGIN:VCALENDAR
VERSION:2.0
PRODID:-//wp-events-plugin.com//7.2.3.1//EN
TZID:America/Detroit
X-WR-TIMEZONE:America/Detroit
BEGIN:VEVENT
UID:93315@annarborwithkids.com
DTSTART;TZID=America/Detroit:20260425T140000
DTEND;TZID=America/Detroit:20260425T150000
DTSTAMP:20260323T214905Z
URL:https://annarborwithkids.com/events/introduction-to-sewing/
SUMMARY:Introduction to Sewing
DESCRIPTION:\nLearn sewing fundamentals\, like how to use a needle and thre
 ad\, as well as some basic stitches. Make a stitch and needle book out of 
 felt! \n\n\n\nFor ages 10-16. \n
CATEGORIES:Arbor Annie's Highlights,Crafts,Elementary,Fiber Arts,Free,High
 Schoolers,Indoor Activities,Middle Schoolers
LOCATION:Ypsilanti District Library - Whittaker Rd\, 5577 Whittaker Rd\, Yp
 silanti\, Michigan\, 48197\, Ypsilanti\, United States
GEO:42.208097;-83.61557
X-APPLE-STRUCTURED-LOCATION;VALUE=URI;X-ADDRESS=5577 Whittaker Rd\, Ypsilan
 ti\, Michigan\, 48197\, Ypsilanti\, United States;X-APPLE-RADIUS=100;X-TIT
 LE=Ypsilanti District Library - Whittaker Rd:geo:42.208097,-83.61557
END:VEVENT
BEGIN:VTIMEZONE
TZID:America/Detroit
X-LIC-LOCATION:America/Detroit
BEGIN:DAYLIGHT
DTSTART:20260308T030000
TZOFFSETFROM:-0500
TZOFFSETTO:-0400
TZNAME:EDT
END:DAYLIGHT
END:VTIMEZONE
END:VCALENDAR