BEGIN:VCALENDAR
VERSION:2.0
PRODID:-//wp-events-plugin.com//7.2.3.1//EN
TZID:America/Detroit
X-WR-TIMEZONE:America/Detroit
BEGIN:VEVENT
UID:93021@annarborwithkids.com
DTSTART;TZID=America/Detroit:20260509T103000
DTEND;TZID=America/Detroit:20260509T123000
DTSTAMP:20260312T001256Z
URL:https://annarborwithkids.com/events/introduction-to-machine-sewing-ski
 ll-development-4/
SUMMARY:Introduction to Machine Sewing Skill Development
DESCRIPTION:\nGet introduced to sewing with a machine in this beginner-frie
 ndly class. Learn the basics of sewing machine operation\, including threa
 ding\, bobbin loading\, changing the needle\, adjusting tension\, and sewi
 ng fundamental stitches. This class provides a solid foundation if you're 
 interested in advancing your sewing skills and taking classes like their Z
 ippered Tote Bag and Industrial Sewing!\n\n\n\nCan my child attend?\n\n\n\
 nYes\, ages 9-15 may attend with a parent/guardian (both must sign up for 
 a seat)\, while ages 16+ may attend solo (minors need a parent signature).
 \n
CATEGORIES:Advance Registration,Crafts,Elementary,Fiber Arts,High
 Schoolers,Indoor Activities,Middle Schoolers,Parents,Registration Required
LOCATION:Maker Works\, 3765 Plaza Drive\, Ann Arbor\, Michigan\, 48108\, So
 uth\, United States
GEO:42.23103400000001;-83.74800949999997
X-APPLE-STRUCTURED-LOCATION;VALUE=URI;X-ADDRESS=3765 Plaza Drive\, Ann Arbo
 r\, Michigan\, 48108\, South\, United States;X-APPLE-RADIUS=100;X-TITLE=Ma
 ker Works:geo:42.23103400000001,-83.74800949999997
END:VEVENT
BEGIN:VTIMEZONE
TZID:America/Detroit
X-LIC-LOCATION:America/Detroit
BEGIN:DAYLIGHT
DTSTART:20260308T030000
TZOFFSETFROM:-0500
TZOFFSETTO:-0400
TZNAME:EDT
END:DAYLIGHT
END:VTIMEZONE
END:VCALENDAR