BEGIN:VCALENDAR
VERSION:2.0
PRODID:-//wp-events-plugin.com//7.2.3.1//EN
TZID:America/Detroit
X-WR-TIMEZONE:America/Detroit
BEGIN:VEVENT
UID:93029@annarborwithkids.com
DTSTART;TZID=America/Detroit:20260508T130000
DTEND;TZID=America/Detroit:20260508T140000
DTSTAMP:20260312T134840Z
URL:https://annarborwithkids.com/events/intro-to-soldering-make-take-3/
SUMMARY:Intro to Soldering Make &amp\; Take
DESCRIPTION:\nGet introduced to soldering! Soldering is a skill used in a w
 ide range of industries\, from electronics to plumbing\, allowing people t
 o make connections between metal components for repairs\, DIY projects\, j
 ewelry\, and more. Each student will solder a simple circuit board "badge"
  with two color-changing LEDs\, battery case\, and battery. Each badge has
  7 solders\, but students are permitted to practice with as many as they'd
  like. Then\, take your badges home!\n\n\n\nMakerworks suggests ages 12 an
 d up. The classes page says ages 12-15 with a guardian\, 16+ solo\n\n\n\n\
 n
CATEGORIES:Advance Registration,Arbor Annie's Highlights,High
 Schoolers,Indoor Activities,Parents,Registration Required,STEM
LOCATION:Maker Works\, 3765 Plaza Drive\, Ann Arbor\, Michigan\, 48108\, So
 uth\, United States
GEO:42.23103400000001;-83.74800949999997
X-APPLE-STRUCTURED-LOCATION;VALUE=URI;X-ADDRESS=3765 Plaza Drive\, Ann Arbo
 r\, Michigan\, 48108\, South\, United States;X-APPLE-RADIUS=100;X-TITLE=Ma
 ker Works:geo:42.23103400000001,-83.74800949999997
END:VEVENT
BEGIN:VTIMEZONE
TZID:America/Detroit
X-LIC-LOCATION:America/Detroit
BEGIN:DAYLIGHT
DTSTART:20260308T030000
TZOFFSETFROM:-0500
TZOFFSETTO:-0400
TZNAME:EDT
END:DAYLIGHT
END:VTIMEZONE
END:VCALENDAR