BEGIN:VCALENDAR
VERSION:2.0
PRODID:-//wp-events-plugin.com//7.2.3.1//EN
TZID:America/Detroit
X-WR-TIMEZONE:America/Detroit
BEGIN:VEVENT
UID:89159@annarborwithkids.com
DTSTART;TZID=America/Detroit:20250927T110000
DTEND;TZID=America/Detroit:20251109T154500
DTSTAMP:20250905T193229Z
URL:https://annarborwithkids.com/event-recurring/intro-to-household-tools-
 make-take/
SUMMARY:Intro to Household Tools Make &amp\; Take
DESCRIPTION:\nThis is a class about common household tools. Everyone will b
 uild their own simple hook rack out of Poplar to take home (see photo) and
  in the course of doing that we'll learn about the following:\n\n\n\n\nMea
 suring\n\n\n\nCutting wood with hand tools\n\n\n\nSanding\n\n\n\nNails\, s
 crews\, hammers\, and screwdrivers\n\n\n\nDrilling\n\n\n\nClamping and glu
 ing\n\n\n\nMounting stuff to walls and repairing small holes\n\n\n\n\nEver
 yone will use a tape measure\, saw\, combination square\, claw hammer\, na
 il set\, clamps\, screwdriver\, electric drill\, stud finder\, drywall anc
 hor\, drywall knife\, drywall compound\, level\, and wood glue. We pack a 
 lot into 4 hours!\n\n\n\nYou'll also receive a detailed set of notes (over
  100 pages!) covering everything from class\, plus a lot of extra informat
 ion for later on. There's even a list of suggested tools to get you starte
 d with your own toolbox.\n\n\n\nThis class is recommended for folks who ha
 ve never used a saw or drilled a hole\, but would like to start learning h
 ow they can make and fix things around the house.&nbsp\; This would make a
  great class for students heading off on their own. \n\n\n\nMakerworks sug
 gests ages 12 and up. The classes page says ages 13-15 with a guardian\, 1
 6+ solo\n\n\n\nKiwanis has provided funding for this class. You can choose
  how much assistance you wish to pay from full cost ($80) to Free.\n\n\n\n
 \n
CATEGORIES:Advance Registration,Arbor Annie's Highlights,High
 Schoolers,Indoor Activities,Parents,Registration Required,STEM
LOCATION:Maker Works\, 3765 Plaza Drive\, Ann Arbor\, Michigan\, 48108\, So
 uth\, United States
GEO:42.23103400000001;-83.74800949999997
X-APPLE-STRUCTURED-LOCATION;VALUE=URI;X-ADDRESS=3765 Plaza Drive\, Ann Arbo
 r\, Michigan\, 48108\, South\, United States;X-APPLE-RADIUS=100;X-TITLE=Ma
 ker Works:geo:42.23103400000001,-83.74800949999997
END:VEVENT
BEGIN:VTIMEZONE
TZID:America/Detroit
X-LIC-LOCATION:America/Detroit
BEGIN:DAYLIGHT
DTSTART:20250309T030000
TZOFFSETFROM:-0500
TZOFFSETTO:-0400
TZNAME:EDT
END:DAYLIGHT
BEGIN:STANDARD
DTSTART:20251102T010000
TZOFFSETFROM:-0400
TZOFFSETTO:-0500
TZNAME:EST
END:STANDARD
END:VTIMEZONE
END:VCALENDAR