BEGIN:VCALENDAR
VERSION:2.0
PRODID:-//wp-events-plugin.com//7.2.3.1//EN
TZID:America/Detroit
X-WR-TIMEZONE:America/Detroit
BEGIN:VEVENT
UID:89161@annarborwithkids.com
DTSTART;TZID=America/Detroit:20260328T123000
DTEND;TZID=America/Detroit:20260328T160000
DTSTAMP:20260312T010748Z
URL:https://annarborwithkids.com/events/intro-to-household-tools-make-take
 -2025-11-09/
SUMMARY:Intro to Household Tools Make &amp\; Take
DESCRIPTION:\nMake your own poplar hook rack by using a tape measure\, saw\
 , combination square\, claw hammer\, nail set\, clamps\, screwdriver\, ele
 ctric drill\, stud finder\, drywall anchor\, drywall knife\, drywall compo
 und\, and wood glue. This class is recommended for those interested in lea
 rning how they can make and fix things around the house.\n\n\n\nEach spot 
 purchased is one hook rack kit (two people are free to work on one hook ra
 ck).\n\n\n\nCan my child attend?\n\n\n\nYes\, ages 12-15 may attend with a
  parent/guardian (both must sign up for a seat)\, while ages 16+ may atten
 d solo (minors need a parent signature).\n\n\n\n\n
CATEGORIES:Advance Registration,Arbor Annie's Highlights,High
 Schoolers,Indoor Activities,Parents,Registration Required,STEM
LOCATION:Maker Works\, 3765 Plaza Drive\, Ann Arbor\, Michigan\, 48108\, So
 uth\, United States
GEO:42.23103400000001;-83.74800949999997
X-APPLE-STRUCTURED-LOCATION;VALUE=URI;X-ADDRESS=3765 Plaza Drive\, Ann Arbo
 r\, Michigan\, 48108\, South\, United States;X-APPLE-RADIUS=100;X-TITLE=Ma
 ker Works:geo:42.23103400000001,-83.74800949999997
END:VEVENT
BEGIN:VTIMEZONE
TZID:America/Detroit
X-LIC-LOCATION:America/Detroit
BEGIN:DAYLIGHT
DTSTART:20260308T030000
TZOFFSETFROM:-0500
TZOFFSETTO:-0400
TZNAME:EDT
END:DAYLIGHT
END:VTIMEZONE
END:VCALENDAR