BEGIN:VCALENDAR
VERSION:2.0
PRODID:-//wp-events-plugin.com//7.2.3.1//EN
TZID:America/Detroit
X-WR-TIMEZONE:America/Detroit
BEGIN:VEVENT
UID:93507@annarborwithkids.com
DTSTART;TZID=America/Detroit:20260425T090000
DTEND;TZID=America/Detroit:20260425T130000
DTSTAMP:20260409T205526Z
URL:https://annarborwithkids.com/events/international-nanny-training-day/
SUMMARY:International Nanny Training Day
DESCRIPTION:\nInternational Nanny Training Day is an exciting\, can’t-mis
 s experience centered on the theme Let's Grow Together. Join an inspiring 
 panel of experts for dynamic conversations on child development\, understa
 nding behaviors in children with exceptional needs\, and practical strateg
 ies that support both children and caregivers. \n\n\n\n\n\nAn array of ven
 dors will be present to help celebrate. Learn\, connect\, and grow togethe
 r as you celebrate the powerful impact nannies make every day. ✨\n\n\n\n
 The speakers are:\n\n\n\n\nDr. Molly Cory\, PhD\, LP \n\n\n\nAshley Tibbs\
 , MS CCC-SLP\n\n\n\nRachel Markowitz\, BA from K9 Turbo Training\n\n\n\nDr
 . Jenny Jeshurun PT\, DPT\n\n\n\n\nThis event is brought to you by Cultiva
 ted Care Agency. A new agency preparing to launch in the Ann Arbor area. O
 ur mission with this event is to further facilitate community\, education\
 , and resources to all nannies in Michigan.\n\n\n\n\n\n\n\n\n\n\n\n\n\n\n\
 n\n
ATTACH;FMTTYPE=image/jpeg:https://annarborwithkids.com/wp-content/uploads/
 nanny-training-day.jpg
CATEGORIES:Advance Registration,Arbor Annie's
 Highlights,Caregivers,Charitable Event,Childcare Information,Display
 Image,Expecting Parents,Indoor Activities,Parents,Registration
 Required,Sponsoring Event
LOCATION:Hunt Street Station\, 2200 Hunt Street\, Detroit\, Michigan\, 4820
 7\, United States
GEO:42.350399;-83.032853
X-APPLE-STRUCTURED-LOCATION;VALUE=URI;X-ADDRESS=2200 Hunt Street\, Detroit\
 , Michigan\, 48207\, United States;X-APPLE-RADIUS=100;X-TITLE=Hunt Street 
 Station:geo:42.350399,-83.032853
END:VEVENT
BEGIN:VTIMEZONE
TZID:America/Detroit
X-LIC-LOCATION:America/Detroit
BEGIN:DAYLIGHT
DTSTART:20260308T030000
TZOFFSETFROM:-0500
TZOFFSETTO:-0400
TZNAME:EDT
END:DAYLIGHT
END:VTIMEZONE
END:VCALENDAR